BEGIN:VCALENDAR
VERSION:2.0
PRODID:-//Birmingham Mommy - ECPv6.3.5//NONSGML v1.0//EN
CALSCALE:GREGORIAN
METHOD:PUBLISH
X-ORIGINAL-URL:https://birminghammommy.com
X-WR-CALDESC:Events for Birmingham Mommy
REFRESH-INTERVAL;VALUE=DURATION:PT1H
X-Robots-Tag:noindex
X-PUBLISHED-TTL:PT1H
BEGIN:VTIMEZONE
TZID:America/Chicago
BEGIN:DAYLIGHT
TZOFFSETFROM:-0600
TZOFFSETTO:-0500
TZNAME:CDT
DTSTART:20190310T080000
END:DAYLIGHT
BEGIN:STANDARD
TZOFFSETFROM:-0500
TZOFFSETTO:-0600
TZNAME:CST
DTSTART:20191103T070000
END:STANDARD
END:VTIMEZONE
BEGIN:VEVENT
DTSTART;TZID=America/Chicago:20190610T120000
DTEND;TZID=America/Chicago:20190610T130000
DTSTAMP:20260420T155241
CREATED:20190510T215233Z
LAST-MODIFIED:20190510T215233Z
UID:29855-1560168000-1560171600@birminghammommy.com
SUMMARY:Mt Laurel Alabama Inventors
DESCRIPTION:Help celebrate Alabama’s Bicentennial by learning about Alabama inventors. Ms. Jan from Dynamic Adventure Education will lead a fun program! All ages welcome. Registration required. Register using the library’s online calendar at mtlaurellibrary.org or call 991-1660. Program is sponsored by O’Kelley Architecture.
URL:https://birminghammommy.com/event/mt-laurel-alabama-inventors/
LOCATION:Mt Laurel Library\, 111 Olmsted St\, Birmingham\, AL\, 35242
GEO:33.4096347;-86.6292618
X-APPLE-STRUCTURED-LOCATION;VALUE=URI;X-ADDRESS=Mt Laurel Library 111 Olmsted St Birmingham AL 35242;X-APPLE-RADIUS=500;X-TITLE=111 Olmsted St:geo:-86.6292618,33.4096347
END:VEVENT
BEGIN:VEVENT
DTSTART;TZID=America/Chicago:20190610T140000
DTEND;TZID=America/Chicago:20190610T153000
DTSTAMP:20260420T155241
CREATED:20190608T192032Z
LAST-MODIFIED:20190608T192032Z
UID:30475-1560175200-1560180600@birminghammommy.com
SUMMARY:Geoffrey Glaub Memorial Camp at Emmet O'Neal Library
DESCRIPTION:Space Camp
URL:https://birminghammommy.com/event/geoffrey-glaub-memorial-camp-at-emmet-oneal-library/2019-06-10/
LOCATION:Emmet O’ Neal Library\, 50 Oak Street\, Mountain Brook\, AL\, 35213
GEO:33.5012941;-86.7565774
X-APPLE-STRUCTURED-LOCATION;VALUE=URI;X-ADDRESS=Emmet O’ Neal Library 50 Oak Street Mountain Brook AL 35213;X-APPLE-RADIUS=500;X-TITLE=50 Oak Street:geo:-86.7565774,33.5012941
END:VEVENT
BEGIN:VEVENT
DTSTART;TZID=America/Chicago:20190610T160000
DTEND;TZID=America/Chicago:20190610T164500
DTSTAMP:20260420T155241
CREATED:20190426T182115Z
LAST-MODIFIED:20190426T182115Z
UID:29476-1560182400-1560185100@birminghammommy.com
SUMMARY:City Passport: Vulcan Park & Museum
DESCRIPTION:2019 (K-12 Grade) Join us on Monday afternoons as we learn about amazing organizations around our city through presentations\, crafts and books.
URL:https://birminghammommy.com/event/city-passport-vulcan-park-museum/
LOCATION:Homewood Public Library\, 1721 Oxmoor Road\, Homewood\, AL\, 35209\, United States
GEO:33.4750533;-86.795404
X-APPLE-STRUCTURED-LOCATION;VALUE=URI;X-ADDRESS=Homewood Public Library 1721 Oxmoor Road Homewood AL 35209 United States;X-APPLE-RADIUS=500;X-TITLE=1721 Oxmoor Road:geo:-86.795404,33.4750533
END:VEVENT
BEGIN:VEVENT
DTSTART;TZID=America/Chicago:20190610T180000
DTEND;TZID=America/Chicago:20190610T190000
DTSTAMP:20260420T155241
CREATED:20190510T215504Z
LAST-MODIFIED:20190510T215504Z
UID:29857-1560189600-1560193200@birminghammommy.com
SUMMARY:Miss Kit's Bubble School
DESCRIPTION:Join us for this unique show filled with science\, comedy\, and best of all\, BUBBLES! \nAll ages. No registration.
URL:https://birminghammommy.com/event/miss-kits-bubble-school-5/
LOCATION:North Shelby Library\, 5521 Cahaba Valley Road\, Birmingham\, AL\, 35242
GEO:33.3646429;-86.7165499
X-APPLE-STRUCTURED-LOCATION;VALUE=URI;X-ADDRESS=North Shelby Library 5521 Cahaba Valley Road Birmingham AL 35242;X-APPLE-RADIUS=500;X-TITLE=5521 Cahaba Valley Road:geo:-86.7165499,33.3646429
END:VEVENT
BEGIN:VEVENT
DTSTART;TZID=America/Chicago:20190611T103000
DTEND;TZID=America/Chicago:20190611T111500
DTSTAMP:20260420T155241
CREATED:20190426T182115Z
LAST-MODIFIED:20190426T182115Z
UID:29478-1560249000-1560251700@birminghammommy.com
SUMMARY:Magic Story Artist: Yasu Ishida at Homewood Library
DESCRIPTION:2019 (All Ages) Join Magic Story Artist\, Yasu Ishida\, for a morning full of wonder!
URL:https://birminghammommy.com/event/magic-story-artist-yasu-ishida-at-homewood-library/
LOCATION:Homewood Public Library\, Select a Country:
GEO:-12.0470469;-77.032263
END:VEVENT
BEGIN:VEVENT
DTSTART;TZID=America/Chicago:20190611T103000
DTEND;TZID=America/Chicago:20190611T113000
DTSTAMP:20260420T155241
CREATED:20190512T011310Z
LAST-MODIFIED:20190512T011815Z
UID:29956-1560249000-1560252600@birminghammommy.com
SUMMARY:Madcap Puppets: Wizard of Oz
DESCRIPTION:Wizard of Oz Puppet Show \n\n\n\n\n\n\nTravel down the Yellow Brick Road with Dorothy\, Toto\, and their best friends; Scarecrow\, Cowardly Lion\, and Tin Man. Madcap brings this epic adventure to life with breathtaking puppets in this enchanting\,\nfamily-friendly classic.
URL:https://birminghammommy.com/event/madcap-puppets-wizard-of-oz/2019-06-11/
LOCATION:Hoover Public Library\, 200 Municiple Drive\, Hoover\, AL\, 35216
GEO:33.387905;-86.8061018
X-APPLE-STRUCTURED-LOCATION;VALUE=URI;X-ADDRESS=Hoover Public Library 200 Municiple Drive Hoover AL 35216;X-APPLE-RADIUS=500;X-TITLE=200 Municiple Drive:geo:-86.8061018,33.387905
END:VEVENT
BEGIN:VEVENT
DTSTART;TZID=America/Chicago:20190611T113000
DTEND;TZID=America/Chicago:20190611T123000
DTSTAMP:20260420T155241
CREATED:20190512T013420Z
LAST-MODIFIED:20190512T013420Z
UID:29976-1560252600-1560256200@birminghammommy.com
SUMMARY:Kids Free Lunch Event
DESCRIPTION:Federally-funded free lunch program for children. Meals can be picked up in The Library Theatre.
URL:https://birminghammommy.com/event/kids-free-lunch-event-3/2019-06-11/
LOCATION:Hoover Public Library\, 200 Municiple Drive\, Hoover\, AL\, 35216
GEO:33.387905;-86.8061018
X-APPLE-STRUCTURED-LOCATION;VALUE=URI;X-ADDRESS=Hoover Public Library 200 Municiple Drive Hoover AL 35216;X-APPLE-RADIUS=500;X-TITLE=200 Municiple Drive:geo:-86.8061018,33.387905
END:VEVENT
BEGIN:VEVENT
DTSTART;TZID=America/Chicago:20190611T140000
DTEND;TZID=America/Chicago:20190611T143000
DTSTAMP:20260420T155241
CREATED:20190604T125226Z
LAST-MODIFIED:20190604T125226Z
UID:30114-1560261600-1560263400@birminghammommy.com
SUMMARY:Kid's Craft: Wooden Alabama Signs at Parnell Memorial Library
DESCRIPTION:Join us to make a special craft to keep – a wooden sign with the outline of Alabama! Registration required. Call the library at (205) 665-9207.
URL:https://birminghammommy.com/event/kids-craft-wooden-alabama-signs-at-parnell-memorial-library/
LOCATION:Parnell Memorial Library\, 277 Park Drive\, Montevallo\, AL\, 35115\, United States
ORGANIZER;CN="Parnell Memorial Library":MAILTO:skitchens@shelbycounty-al.org
END:VEVENT
BEGIN:VEVENT
DTSTART;TZID=America/Chicago:20190611T140000
DTEND;TZID=America/Chicago:20190611T150000
DTSTAMP:20260420T155241
CREATED:20190512T011907Z
LAST-MODIFIED:20190512T012008Z
UID:29973-1560261600-1560265200@birminghammommy.com
SUMMARY:Madcap Puppets: Wizard of Oz
DESCRIPTION:Wizard of Oz Puppet Show \n\n\n\n\n\n\nTravel down the Yellow Brick Road with Dorothy\, Toto\, and their best friends; Scarecrow\, Cowardly Lion\, and Tin Man. Madcap brings this epic adventure to life with breathtaking puppets in this enchanting\,\nfamily-friendly classic.
URL:https://birminghammommy.com/event/madcap-puppets-wizard-of-oz-2/2019-06-11/
LOCATION:Hoover Public Library\, 200 Municiple Drive\, Hoover\, AL\, 35216
GEO:33.387905;-86.8061018
X-APPLE-STRUCTURED-LOCATION;VALUE=URI;X-ADDRESS=Hoover Public Library 200 Municiple Drive Hoover AL 35216;X-APPLE-RADIUS=500;X-TITLE=200 Municiple Drive:geo:-86.8061018,33.387905
END:VEVENT
BEGIN:VEVENT
DTSTART;TZID=America/Chicago:20190611T153000
DTEND;TZID=America/Chicago:20190611T161500
DTSTAMP:20260420T155241
CREATED:20190426T182115Z
LAST-MODIFIED:20190426T182115Z
UID:29480-1560267000-1560269700@birminghammommy.com
SUMMARY:Sewing Circle at Homewood Library
DESCRIPTION:2019 (K-5 Grade) Learn basic sewing skills and complete simple projects in this fun sewing club for kids. Registration is required.
URL:https://birminghammommy.com/event/sewing-circle-at-homewood-library/
LOCATION:Homewood Public Library\, Select a Country:
GEO:-12.0470469;-77.032263
END:VEVENT
BEGIN:VEVENT
DTSTART;TZID=America/Chicago:20190611T153000
DTEND;TZID=America/Chicago:20190611T161500
DTSTAMP:20260420T155241
CREATED:20190608T192032Z
LAST-MODIFIED:20190608T192032Z
UID:30480-1560267000-1560269700@birminghammommy.com
SUMMARY:LOL: Go at Emmet O'Neal Library
DESCRIPTION:Jungle Adventure Animal Show for Kindergarten – 2nd grade
URL:https://birminghammommy.com/event/lol-go-at-emmet-oneal-library/
LOCATION:Emmet O’ Neal Library\, 50 Oak Street\, Mountain Brook\, AL\, 35213
GEO:33.5012941;-86.7565774
X-APPLE-STRUCTURED-LOCATION;VALUE=URI;X-ADDRESS=Emmet O’ Neal Library 50 Oak Street Mountain Brook AL 35213;X-APPLE-RADIUS=500;X-TITLE=50 Oak Street:geo:-86.7565774,33.5012941
END:VEVENT
BEGIN:VEVENT
DTSTART;TZID=America/Chicago:20190611T160000
DTEND;TZID=America/Chicago:20190611T170000
DTSTAMP:20260420T155241
CREATED:20190510T220255Z
LAST-MODIFIED:20190510T220255Z
UID:29859-1560268800-1560272400@birminghammommy.com
SUMMARY:Garden Gates
DESCRIPTION:An hour of hands-on STEM fun with a nature focus. \n Designed for Ages 5 and up. Registration is required.
URL:https://birminghammommy.com/event/garden-gates-4/
LOCATION:North Shelby Library\, 5521 Cahaba Valley Road\, Birmingham\, AL\, 35242
GEO:33.3646429;-86.7165499
X-APPLE-STRUCTURED-LOCATION;VALUE=URI;X-ADDRESS=North Shelby Library 5521 Cahaba Valley Road Birmingham AL 35242;X-APPLE-RADIUS=500;X-TITLE=5521 Cahaba Valley Road:geo:-86.7165499,33.3646429
END:VEVENT
BEGIN:VEVENT
DTSTART;TZID=America/Chicago:20190611T180000
DTEND;TZID=America/Chicago:20190611T190000
DTSTAMP:20260420T155241
CREATED:20190608T192032Z
LAST-MODIFIED:20190608T192032Z
UID:30482-1560276000-1560279600@birminghammommy.com
SUMMARY:Hot off the Press Book Group at Emmet O'Neal Library
DESCRIPTION:grades 3-6
URL:https://birminghammommy.com/event/hot-off-the-press-book-group-at-emmet-oneal-library/
LOCATION:Emmet O’ Neal Library\, 50 Oak Street\, Mountain Brook\, AL\, 35213
GEO:33.5012941;-86.7565774
X-APPLE-STRUCTURED-LOCATION;VALUE=URI;X-ADDRESS=Emmet O’ Neal Library 50 Oak Street Mountain Brook AL 35213;X-APPLE-RADIUS=500;X-TITLE=50 Oak Street:geo:-86.7565774,33.5012941
END:VEVENT
BEGIN:VEVENT
DTSTART;TZID=America/Chicago:20190612T090000
DTEND;TZID=America/Chicago:20190612T170000
DTSTAMP:20260420T155241
CREATED:20190608T004950Z
LAST-MODIFIED:20190608T004950Z
UID:30515-1560330000-1560358800@birminghammommy.com
SUMMARY:Teacher Appreciation Days at McWane
DESCRIPTION:Thank you to the teachers! We want you to enjoy McWane Science Center with your family this summer – not just on a field trip with your students. Teachers get in free (please show a teacher ID/insurance card) plus get a special discount for family members.
URL:https://birminghammommy.com/event/teacher-appreciation-days-at-mcwane/2019-06-12/
LOCATION:McWane Science Center\, 200 19th Street North\, Birmingham\, AL\, 35203
GEO:33.5149315;-86.8083142
X-APPLE-STRUCTURED-LOCATION;VALUE=URI;X-ADDRESS=McWane Science Center 200 19th Street North Birmingham AL 35203;X-APPLE-RADIUS=500;X-TITLE=200 19th Street North:geo:-86.8083142,33.5149315
END:VEVENT
BEGIN:VEVENT
DTSTART;TZID=America/Chicago:20190612T093000
DTEND;TZID=America/Chicago:20190612T100000
DTSTAMP:20260420T155241
CREATED:20190426T182115Z
LAST-MODIFIED:20190426T182115Z
UID:29482-1560331800-1560333600@birminghammommy.com
SUMMARY:Sensory Storytime at Homewood Library
DESCRIPTION:2019 (Preschool) Join Ms. Laura for books\, songs\, and activities that stimulate the senses and promote learning in a sensory-inclusive atmosphere. Registration is required.
URL:https://birminghammommy.com/event/sensory-storytime-at-homewood-library-5/
LOCATION:Homewood Public Library\, Select a Country:
GEO:-12.0470469;-77.032263
END:VEVENT
BEGIN:VEVENT
DTSTART;TZID=America/Chicago:20190612T093000
DTEND;TZID=America/Chicago:20190612T100000
DTSTAMP:20260420T155241
CREATED:20190608T192032Z
LAST-MODIFIED:20190608T192032Z
UID:30484-1560331800-1560333600@birminghammommy.com
SUMMARY:Mother Goose at Emmet O'Neal Library
DESCRIPTION:12 to 24 months with caregiver
URL:https://birminghammommy.com/event/mother-goose-at-emmet-oneal-library/
LOCATION:Emmet O’ Neal Library\, 50 Oak Street\, Mountain Brook\, AL\, 35213
GEO:33.5012941;-86.7565774
X-APPLE-STRUCTURED-LOCATION;VALUE=URI;X-ADDRESS=Emmet O’ Neal Library 50 Oak Street Mountain Brook AL 35213;X-APPLE-RADIUS=500;X-TITLE=50 Oak Street:geo:-86.7565774,33.5012941
END:VEVENT
BEGIN:VEVENT
DTSTART;TZID=America/Chicago:20190612T103000
DTEND;TZID=America/Chicago:20190612T110000
DTSTAMP:20260420T155241
CREATED:20190426T182115Z
LAST-MODIFIED:20190426T182115Z
UID:29484-1560335400-1560337200@birminghammommy.com
SUMMARY:Story Bunch with Ms. Laura at Homewood Library
DESCRIPTION:2019 (Preschool) Join Ms. Laura for stories\, songs and lots of fun!
URL:https://birminghammommy.com/event/story-bunch-with-ms-laura-at-homewood-library/
LOCATION:Homewood Public Library\, 1721 Oxmoor Road\, Homewood\, AL\, 35209\, United States
GEO:33.4750533;-86.795404
X-APPLE-STRUCTURED-LOCATION;VALUE=URI;X-ADDRESS=Homewood Public Library 1721 Oxmoor Road Homewood AL 35209 United States;X-APPLE-RADIUS=500;X-TITLE=1721 Oxmoor Road:geo:-86.795404,33.4750533
END:VEVENT
BEGIN:VEVENT
DTSTART;TZID=America/Chicago:20190612T120000
DTEND;TZID=America/Chicago:20190612T140000
DTSTAMP:20260420T155241
CREATED:20190510T220519Z
LAST-MODIFIED:20190510T220519Z
UID:29861-1560340800-1560348000@birminghammommy.com
SUMMARY:Mt Laurel Craft
DESCRIPTION:Drop in from 12-2 pm to create a different fun item. All ages with adult assistance. Registration is not required. Supplies limited.
URL:https://birminghammommy.com/event/mt-laurel-craft-3/
LOCATION:Mt Laurel Library\, 111 Olmsted St\, Birmingham\, AL\, 35242
GEO:33.4096347;-86.6292618
X-APPLE-STRUCTURED-LOCATION;VALUE=URI;X-ADDRESS=Mt Laurel Library 111 Olmsted St Birmingham AL 35242;X-APPLE-RADIUS=500;X-TITLE=111 Olmsted St:geo:-86.6292618,33.4096347
END:VEVENT
BEGIN:VEVENT
DTSTART;TZID=America/Chicago:20190612T153000
DTEND;TZID=America/Chicago:20190612T161500
DTSTAMP:20260420T155241
CREATED:20190426T182115Z
LAST-MODIFIED:20190426T182115Z
UID:29486-1560353400-1560356100@birminghammommy.com
SUMMARY:Code-A-Story at Homewood Library
DESCRIPTION:(K-2 Grade) Learn coding basics through stories\, game and activities! Laptops will be provided. Registration is required.
URL:https://birminghammommy.com/event/code-a-story-at-homewood-library-2/
LOCATION:Homewood Public Library\, Select a Country:
GEO:-12.0470469;-77.032263
END:VEVENT
BEGIN:VEVENT
DTSTART;TZID=America/Chicago:20190612T190500
DTEND;TZID=America/Chicago:20190612T220500
DTSTAMP:20260420T155241
CREATED:20190608T130023Z
LAST-MODIFIED:20190608T130023Z
UID:30553-1560366300-1560377100@birminghammommy.com
SUMMARY:Birmingham Barons at Regions Field
DESCRIPTION:v. Jacksonville Jumbo Shrimp \nGame Highlight: Wet Nose Wednesday  \nGeneral Admission seats remain the same price as in recent years with adult tickets available for $7.00. Children (12-years and younger)\, seniors (60 years and older) and members of the military receive $1.00 discounts on the listed prices for all reserved and general admission seats. General Admission seating is located in the right field bleachers and the berm seating areas. \n 
URL:https://birminghammommy.com/event/birmingham-barons-at-regions-field-36/
LOCATION:Regions Field\, 1401 1st Avenue S\, Birmingham\, 35233
GEO:33.5075002;-86.8105789
X-APPLE-STRUCTURED-LOCATION;VALUE=URI;X-ADDRESS=Regions Field 1401 1st Avenue S Birmingham 35233;X-APPLE-RADIUS=500;X-TITLE=1401 1st Avenue S:geo:-86.8105789,33.5075002
END:VEVENT
BEGIN:VEVENT
DTSTART;TZID=America/Chicago:20190613T103000
DTEND;TZID=America/Chicago:20190613T110000
DTSTAMP:20260420T155241
CREATED:20190510T220718Z
LAST-MODIFIED:20190510T221653Z
UID:29863-1560421800-1560423600@birminghammommy.com
SUMMARY:Toddler Tales at North Shelby Library
DESCRIPTION:Registration begins 6/6/2019 at 8:30 AM\nStories\, songs\, and fingerplays make up a lively 30 minute program designed especially for toddlers. Registration will begin one week prior to each storytime. Ages 19-36 months. Registration required and opens 1 week before program.
URL:https://birminghammommy.com/event/toddler-tales-at-north-shelby-library-4/2019-06-13/
LOCATION:North Shelby Library\, 5521 Cahaba Valley Road\, Birmingham\, AL\, 35242
GEO:33.3646429;-86.7165499
X-APPLE-STRUCTURED-LOCATION;VALUE=URI;X-ADDRESS=North Shelby Library 5521 Cahaba Valley Road Birmingham AL 35242;X-APPLE-RADIUS=500;X-TITLE=5521 Cahaba Valley Road:geo:-86.7165499,33.3646429
END:VEVENT
BEGIN:VEVENT
DTSTART;TZID=America/Chicago:20190613T140000
DTEND;TZID=America/Chicago:20190613T143000
DTSTAMP:20260420T155241
CREATED:20190510T222227Z
LAST-MODIFIED:20190510T222227Z
UID:29866-1560434400-1560436200@birminghammommy.com
SUMMARY:Building Tech: Grades K-3
DESCRIPTION:Registration begins 5/30/2019 at 8:00 AM\n\nExplore engineering through a different building challenge each week.\n\nThis week: Bridges\nChallenge yourself to build the strongest bridge out of the supplies given.\n\nFor Grades K-3rd. Registration required.
URL:https://birminghammommy.com/event/building-tech-grades-k-3-2/
LOCATION:North Shelby Library\, 5521 Cahaba Valley Road\, Birmingham\, AL\, 35242
GEO:33.3646429;-86.7165499
X-APPLE-STRUCTURED-LOCATION;VALUE=URI;X-ADDRESS=North Shelby Library 5521 Cahaba Valley Road Birmingham AL 35242;X-APPLE-RADIUS=500;X-TITLE=5521 Cahaba Valley Road:geo:-86.7165499,33.3646429
END:VEVENT
BEGIN:VEVENT
DTSTART;TZID=America/Chicago:20190613T140000
DTEND;TZID=America/Chicago:20190613T153000
DTSTAMP:20260420T155241
CREATED:20190522T235417Z
LAST-MODIFIED:20190522T235417Z
UID:30084-1560434400-1560439800@birminghammommy.com
SUMMARY:Alice in Wonderland at Riverchase Galleria
DESCRIPTION:ALICE IN WONDERLAND \nA WORLD PREMIERE ADAPTATION BY BRANDON BRUCE AND LUKE SCHARES\nbased on “Alice’s Adventures in Wonderland” and “Through the Looking Glass” by Lewis Carroll. \nDIRECTED BY BRANDON BRUCE \nJoin us at the Magic City Theatre Festival for a whimsical journey down the fated rabbit hole and into the off-kilter world of Wonderland. Inquisitive young Alice encounters the eccentric inhabitants of this fantastical land\, including mock turtles\, punctual rabbits\, and dancing flora. Our young heroine struggles to make sense of her surroundings and – most of all – figure out a way to get home. \nThe Magic City Theatre Festival’s fresh take on this classic tale finds Alice in a post-industrial Wonderland\, far from the Victorian rules and manners of her adolescence. Embracing the ever-lasting themes of curiosity\, growing up\, and finding identity\, audiences young and old will find little of themselves in the furnaces of Wonderland. \nAll performances are FREE to the public. For more information or to reserve your ticket\, visit www.bct123.org. \nJUNE 13TH – 16TH @ RIVERCHASE GALLERIA\nJune 13th – 15th @ 7:00pm. June 15th & 16th @ 2:00pm. Signed performance is Sunday\, June 16th @ 2:00pm. \nPlease note that we will have 300 seats available in front of our stage that is located in the central food court. These will be on a first come\, first served basis. After those are filled\, there will be standing room only to watch the show.
URL:https://birminghammommy.com/event/alice-in-wonderland-at-riverchase-galleria/2019-06-13/
LOCATION:Riverchase Galleria\, 3000 Rivercahse Galleria\, Hoover\, AL\, 35244
ATTACH;FMTTYPE=image/png:https://birminghammommy.com/wp-content/uploads/2019/05/ALICE420x280-1.png
GEO:33.3741697;-86.8111371
X-APPLE-STRUCTURED-LOCATION;VALUE=URI;X-ADDRESS=Riverchase Galleria 3000 Rivercahse Galleria Hoover AL 35244;X-APPLE-RADIUS=500;X-TITLE=3000 Rivercahse Galleria:geo:-86.8111371,33.3741697
END:VEVENT
BEGIN:VEVENT
DTSTART;TZID=America/Chicago:20190613T160000
DTEND;TZID=America/Chicago:20190613T170000
DTSTAMP:20260420T155241
CREATED:20190512T013652Z
LAST-MODIFIED:20190512T013652Z
UID:29981-1560441600-1560445200@birminghammommy.com
SUMMARY:Cosmic Comics
DESCRIPTION:Galactic challenges inspired by your favorite comic characters \n\n\n\n\n\n\nFriends and foes join you in galactic challenges inspired by our favorite graphic novel characters from space!  Ages 6-12\, Registration required
URL:https://birminghammommy.com/event/cosmic-comics/
LOCATION:Hoover Public Library\, 200 Municiple Drive\, Hoover\, AL\, 35216
GEO:33.387905;-86.8061018
X-APPLE-STRUCTURED-LOCATION;VALUE=URI;X-ADDRESS=Hoover Public Library 200 Municiple Drive Hoover AL 35216;X-APPLE-RADIUS=500;X-TITLE=200 Municiple Drive:geo:-86.8061018,33.387905
END:VEVENT
BEGIN:VEVENT
DTSTART;TZID=America/Chicago:20190613T163000
DTEND;TZID=America/Chicago:20190613T173000
DTSTAMP:20260420T155241
CREATED:20190427T171649Z
LAST-MODIFIED:20190427T171649Z
UID:29509-1560443400-1560447000@birminghammommy.com
SUMMARY:Learn Japanese at Homewood Library
DESCRIPTION:2019 (3-5 Grade) Learn common Japanese words and phrases in this three-week class. Registration is required.
URL:https://birminghammommy.com/event/learn-japanese-at-homewood-library/
LOCATION:Homewood Public Library\, Select a Country:
GEO:-12.0470469;-77.032263
END:VEVENT
BEGIN:VEVENT
DTSTART;TZID=America/Chicago:20190613T180000
DTEND;TZID=America/Chicago:20190613T190000
DTSTAMP:20260420T155241
CREATED:20190427T171649Z
LAST-MODIFIED:20190427T171649Z
UID:29511-1560448800-1560452400@birminghammommy.com
SUMMARY:Ralph Breaks the Internet Movie Showing
DESCRIPTION:2019 (All Ages) Ralph and Vanellope von Schweetz travel to the world wide web to save her game\, Sugar Rush. Will this misfit duo be successful?
URL:https://birminghammommy.com/event/ralph-breaks-the-internet-movie-showing/
LOCATION:Homewood Public Library\, Select a Country:
GEO:-12.0470469;-77.032263
END:VEVENT
BEGIN:VEVENT
DTSTART;TZID=America/Chicago:20190613T180000
DTEND;TZID=America/Chicago:20190613T191500
DTSTAMP:20260420T155241
CREATED:20190510T223053Z
LAST-MODIFIED:20190510T223053Z
UID:29868-1560448800-1560453300@birminghammommy.com
SUMMARY:Pajama Storytime at North Shelby Library
DESCRIPTION:Come in your PJs\, have milk and cookies\, and hear some wonderful bedtime tales. Suited for ages 3 and up. No Registration Required.
URL:https://birminghammommy.com/event/pajama-storytime-at-north-shelby-library-2/
LOCATION:North Shelby Library\, 5521 Cahaba Valley Road\, Birmingham\, AL\, 35242
GEO:33.3646429;-86.7165499
X-APPLE-STRUCTURED-LOCATION;VALUE=URI;X-ADDRESS=North Shelby Library 5521 Cahaba Valley Road Birmingham AL 35242;X-APPLE-RADIUS=500;X-TITLE=5521 Cahaba Valley Road:geo:-86.7165499,33.3646429
END:VEVENT
BEGIN:VEVENT
DTSTART;TZID=America/Chicago:20190613T190000
DTEND;TZID=America/Chicago:20190613T203000
DTSTAMP:20260420T155241
CREATED:20190522T234929Z
LAST-MODIFIED:20190522T234929Z
UID:30077-1560452400-1560457800@birminghammommy.com
SUMMARY:Alice in Wonderland at the Riverchase Galleria
DESCRIPTION:ALICE IN WONDERLAND \nA WORLD PREMIERE ADAPTATION BY BRANDON BRUCE AND LUKE SCHARES\nbased on “Alice’s Adventures in Wonderland” and “Through the Looking Glass” by Lewis Carroll. \nDIRECTED BY BRANDON BRUCE \nJoin us at the Magic City Theatre Festival for a whimsical journey down the fated rabbit hole and into the off-kilter world of Wonderland. Inquisitive young Alice encounters the eccentric inhabitants of this fantastical land\, including mock turtles\, punctual rabbits\, and dancing flora. Our young heroine struggles to make sense of her surroundings and – most of all – figure out a way to get home. \nThe Magic City Theatre Festival’s fresh take on this classic tale finds Alice in a post-industrial Wonderland\, far from the Victorian rules and manners of her adolescence. Embracing the ever-lasting themes of curiosity\, growing up\, and finding identity\, audiences young and old will find little of themselves in the furnaces of Wonderland. \nAll performances are FREE to the public. For more information or to reserve your ticket\, visit www.bct123.org. \nJUNE 13TH – 16TH @ RIVERCHASE GALLERIA\nJune 13th – 15th @ 7:00pm. June 15th & 16th @ 2:00pm. Signed performance is Sunday\, June 16th @ 2:00pm. \nPlease note that we will have 300 seats available in front of our stage that is located in the central food court. These will be on a first come\, first served basis. After those are filled\, there will be standing room only to watch the show.
URL:https://birminghammommy.com/event/alice-in-wonderland-at-the-riverchase-galleria/2019-06-13/
LOCATION:The Riverchase Galleria\, 2000 Galleria Cir\, Birmingham\, 35244\, United States
ATTACH;FMTTYPE=image/png:https://birminghammommy.com/wp-content/uploads/2019/05/ALICE420x280-1.png
ORGANIZER;CN="Birmingham Children's Theatre":MAILTO:info@bct123.org
END:VEVENT
BEGIN:VEVENT
DTSTART;TZID=America/Chicago:20190613T190500
DTEND;TZID=America/Chicago:20190613T220000
DTSTAMP:20260420T155241
CREATED:20190608T130256Z
LAST-MODIFIED:20190608T130256Z
UID:30555-1560452700-1560463200@birminghammommy.com
SUMMARY:Birmingham Barons at Regions Field
DESCRIPTION:V. Jacksonville Jump Shrimp \nGame Highlight: Thirsty Thursday  \n\n\n\n\n\n\nCome out and enjoy a game at Regions Field with your best pal on Thirsty Thursday. On this night 16oz beverages for just $2. | Presented By Miller Lite\, Woodbridge\, and Buffalo Wild Wings. \nGeneral Admission seats remain the same price as in recent years with adult tickets available for $7.00. Children (12-years and younger)\, seniors (60 years and older) and members of the military receive $1.00 discounts on the listed prices for all reserved and general admission seats. General Admission seating is located in the right field bleachers and the berm seating areas.
URL:https://birminghammommy.com/event/birmingham-barons-at-regions-field-37/
LOCATION:Regions Field\, 1401 1st Avenue S\, Birmingham\, 35233
GEO:33.5075002;-86.8105789
X-APPLE-STRUCTURED-LOCATION;VALUE=URI;X-ADDRESS=Regions Field 1401 1st Avenue S Birmingham 35233;X-APPLE-RADIUS=500;X-TITLE=1401 1st Avenue S:geo:-86.8105789,33.5075002
END:VEVENT
BEGIN:VEVENT
DTSTART;TZID=America/Chicago:20190614T103000
DTEND;TZID=America/Chicago:20190614T111500
DTSTAMP:20260420T155241
CREATED:20190427T171649Z
LAST-MODIFIED:20190427T171649Z
UID:29513-1560508200-1560510900@birminghammommy.com
SUMMARY:Animal Adventures: Greater Birmingham Humane Society
DESCRIPTION:2019 (All Ages) Join us on Friday mornings to learn about different animals!
URL:https://birminghammommy.com/event/animal-adventures-greater-birmingham-humane-society/
LOCATION:Homewood Public Library\, Select a Country:
GEO:-12.0470469;-77.032263
END:VEVENT
END:VCALENDAR