BEGIN:VCALENDAR
VERSION:2.0
PRODID:-//Birmingham Mommy - ECPv6.3.5//NONSGML v1.0//EN
CALSCALE:GREGORIAN
METHOD:PUBLISH
X-WR-CALNAME:Birmingham Mommy
X-ORIGINAL-URL:https://birminghammommy.com
X-WR-CALDESC:Events for Birmingham Mommy
REFRESH-INTERVAL;VALUE=DURATION:PT1H
X-Robots-Tag:noindex
X-PUBLISHED-TTL:PT1H
BEGIN:VTIMEZONE
TZID:America/Chicago
BEGIN:DAYLIGHT
TZOFFSETFROM:-0600
TZOFFSETTO:-0500
TZNAME:CDT
DTSTART:20190310T080000
END:DAYLIGHT
BEGIN:STANDARD
TZOFFSETFROM:-0500
TZOFFSETTO:-0600
TZNAME:CST
DTSTART:20191103T070000
END:STANDARD
END:VTIMEZONE
BEGIN:VEVENT
DTSTART;TZID=America/Chicago:20190603T110000
DTEND;TZID=America/Chicago:20190603T123000
DTSTAMP:20260420T014335
CREATED:20190604T125226Z
LAST-MODIFIED:20190607T140522Z
UID:30106-1559559600-1559565000@birminghammommy.com
SUMMARY:Movie Mondays at the Parnell Memorial Library
DESCRIPTION:Join us for big-screen showings of your favorite animated Disney classics! Call the library for title. \n\n\n\n\n\n\n0 Likes
URL:https://birminghammommy.com/event/movie-mondays-at-the-parnell-memorial-library/2019-06-03/
LOCATION:Parnell Memorial Library\, 277 Park Drive\, Montevallo\, AL\, 35115\, United States
ORGANIZER;CN="Parnell Memorial Library":MAILTO:skitchens@shelbycounty-al.org
END:VEVENT
BEGIN:VEVENT
DTSTART;TZID=America/Chicago:20190603T113000
DTEND;TZID=America/Chicago:20190603T123000
DTSTAMP:20260420T014335
CREATED:20190512T004635Z
LAST-MODIFIED:20190512T004635Z
UID:29926-1559561400-1559565000@birminghammommy.com
SUMMARY:Kids Free Lunch Event
DESCRIPTION:Federally-funded free lunch program for children. Meals can be picked up in The Library Theatre.
URL:https://birminghammommy.com/event/kids-free-lunch-event/2019-06-03/
END:VEVENT
BEGIN:VEVENT
DTSTART;TZID=America/Chicago:20190603T140000
DTEND;TZID=America/Chicago:20190603T150000
DTSTAMP:20260420T014335
CREATED:20190509T195136Z
LAST-MODIFIED:20190509T195136Z
UID:29814-1559570400-1559574000@birminghammommy.com
SUMMARY:Mt Laurel Animal Tales
DESCRIPTION:Join John from Animal Tales as he showcases live animals that are out of this world! All ages welcome. No registration required. Program will be held at the Double Oak Community Church Café.  Contact the Mt Laurel Library at 991-1660 or mtlaurel@shelbycounty-al.org for more information. Program is sponsored by Sally Dollar\, author of the book The Gumball Lottery.
URL:https://birminghammommy.com/event/mt-laurel-animal-tales/
LOCATION:Double Oak Mtn Community Church
END:VEVENT
BEGIN:VEVENT
DTSTART;TZID=America/Chicago:20190603T160000
DTEND;TZID=America/Chicago:20190603T161500
DTSTAMP:20260420T014335
CREATED:20190426T182004Z
LAST-MODIFIED:20190426T182004Z
UID:29468-1559577600-1559578500@birminghammommy.com
SUMMARY:City Passport: Magic City Acceptance Center
DESCRIPTION:2019 (K-12 Grade) Join us on Monday afternoons as we learn about amazing organizations around our city through presentations\, crafts and books.
URL:https://birminghammommy.com/event/city-passport-magic-city-acceptance-center/
LOCATION:Homewood Public Library\, 1721 Oxmoor Road\, Homewood\, AL\, 35209\, United States
GEO:33.4750533;-86.795404
X-APPLE-STRUCTURED-LOCATION;VALUE=URI;X-ADDRESS=Homewood Public Library 1721 Oxmoor Road Homewood AL 35209 United States;X-APPLE-RADIUS=500;X-TITLE=1721 Oxmoor Road:geo:-86.795404,33.4750533
END:VEVENT
BEGIN:VEVENT
DTSTART;TZID=America/Chicago:20190603T180000
DTEND;TZID=America/Chicago:20190603T190000
DTSTAMP:20260420T014335
CREATED:20190509T195229Z
LAST-MODIFIED:20190509T195229Z
UID:29816-1559584800-1559588400@birminghammommy.com
SUMMARY:Animal Tales at North Shelby Library
DESCRIPTION:Features live\, exotic wildlife from all over the world that possess very unique abilities.
URL:https://birminghammommy.com/event/animal-tales-at-north-shelby-library-2/
LOCATION:North Shelby Library\, 5521 Cahaba Valley Road\, Birmingham\, AL\, 35242
GEO:33.3646429;-86.7165499
X-APPLE-STRUCTURED-LOCATION;VALUE=URI;X-ADDRESS=North Shelby Library 5521 Cahaba Valley Road Birmingham AL 35242;X-APPLE-RADIUS=500;X-TITLE=5521 Cahaba Valley Road:geo:-86.7165499,33.3646429
END:VEVENT
BEGIN:VEVENT
DTSTART;TZID=America/Chicago:20190603T190500
DTEND;TZID=America/Chicago:20190603T220000
DTSTAMP:20260420T014335
CREATED:20190507T013824Z
LAST-MODIFIED:20190507T013824Z
UID:29727-1559588700-1559599200@birminghammommy.com
SUMMARY:Birmingham Barons V. Jackson Generals
DESCRIPTION:Game Highlight: Movin’ Mondays  \n\n\n\n\n\n\nGet Movin’ Mondays aim to support healthy living in the Magic City with pregame activities including yoga and runs\, healthy food options\, encouraging activity with laps around the concourse to view the game from every great angle available at Regions Field\, and good old-fashioned sunshine for vitamin D \n\n\n\n\n\n\n\n\n\n\n\n\nGeneral Admission seats remain the same price as in recent years with adult tickets available for $7.00. Children (12-years and younger)\, seniors (60 years and older) and members of the military receive $1.00 discounts on the listed prices for all reserved and general admission seats. General Admission seating is located in the right field bleachers and the berm seating areas.
URL:https://birminghammommy.com/event/birmingham-barons-v-jackson-generals-7/
LOCATION:Regions Field\, 1401 1st Avenue S\, Birmingham\, 35233
GEO:33.5075002;-86.8105789
X-APPLE-STRUCTURED-LOCATION;VALUE=URI;X-ADDRESS=Regions Field 1401 1st Avenue S Birmingham 35233;X-APPLE-RADIUS=500;X-TITLE=1401 1st Avenue S:geo:-86.8105789,33.5075002
END:VEVENT
BEGIN:VEVENT
DTSTART;TZID=America/Chicago:20190604T103000
DTEND;TZID=America/Chicago:20190604T111500
DTSTAMP:20260420T014335
CREATED:20190510T212930Z
LAST-MODIFIED:20190510T212930Z
UID:29826-1559644200-1559646900@birminghammommy.com
SUMMARY:Puppet Tales at North Shelby Library
DESCRIPTION:A new storytime filled with puppet fun! Watch stories and songs come alive through puppets and make a small puppet to take! Registration will begin three weeks prior to program date. \nDesigned for ages 2-5. Registration required.
URL:https://birminghammommy.com/event/puppet-tales-at-north-shelby-library/
LOCATION:North Shelby Library\, 5521 Cahaba Valley Road\, Birmingham\, AL\, 35242
GEO:33.3646429;-86.7165499
X-APPLE-STRUCTURED-LOCATION;VALUE=URI;X-ADDRESS=North Shelby Library 5521 Cahaba Valley Road Birmingham AL 35242;X-APPLE-RADIUS=500;X-TITLE=5521 Cahaba Valley Road:geo:-86.7165499,33.3646429
END:VEVENT
BEGIN:VEVENT
DTSTART;TZID=America/Chicago:20190604T103000
DTEND;TZID=America/Chicago:20190604T113000
DTSTAMP:20260420T014335
CREATED:20190414T230611Z
LAST-MODIFIED:20190414T235244Z
UID:29149-1559644200-1559647800@birminghammommy.com
SUMMARY:Water Play Day at Homewood Library
DESCRIPTION:2019 (All Ages) Wear your bathing suit\, put on some sunscreen and grab your towel as we splash around on our water slide!
URL:https://birminghammommy.com/event/water-play-day-at-homewood-library/
LOCATION:Homewood Public Library\, Select a Country:
GEO:-12.0470469;-77.032263
END:VEVENT
BEGIN:VEVENT
DTSTART;TZID=America/Chicago:20190604T103000
DTEND;TZID=America/Chicago:20190604T113000
DTSTAMP:20260420T014335
CREATED:20190512T005233Z
LAST-MODIFIED:20190512T005233Z
UID:29935-1559644200-1559647800@birminghammommy.com
SUMMARY:Animal Tales: Creatures of the Galaxy
DESCRIPTION:An educational animal program with out of this world animals! \n\n\n\n\n\n\nA variety of exotic animals from all around the world that can be found throughout the cosmos in Constellations.  Program will be provided on the Library Plaza.  Space is limited\, come early to ensure a seat.
URL:https://birminghammommy.com/event/animal-tales-creatures-of-the-galaxy/
LOCATION:Hoover Public Library\, 200 Municipal Drive\, Hoover\, AL\, 35216\, United States
END:VEVENT
BEGIN:VEVENT
DTSTART;TZID=America/Chicago:20190604T113000
DTEND;TZID=America/Chicago:20190604T123000
DTSTAMP:20260420T014335
CREATED:20190512T005907Z
LAST-MODIFIED:20190512T005907Z
UID:29940-1559647800-1559651400@birminghammommy.com
SUMMARY:Kids Free Lunch Event
DESCRIPTION:Federally-funded free lunch program for children. Meals can be picked up in The Library Theatre.
URL:https://birminghammommy.com/event/kids-free-lunch-event-2/2019-06-04/
LOCATION:Hoover Public Library\, 200 Municiple Drive\, Hoover\, AL\, 35216
GEO:33.387905;-86.8061018
X-APPLE-STRUCTURED-LOCATION;VALUE=URI;X-ADDRESS=Hoover Public Library 200 Municiple Drive Hoover AL 35216;X-APPLE-RADIUS=500;X-TITLE=200 Municiple Drive:geo:-86.8061018,33.387905
END:VEVENT
BEGIN:VEVENT
DTSTART;TZID=America/Chicago:20190604T140000
DTEND;TZID=America/Chicago:20190604T143000
DTSTAMP:20260420T014335
CREATED:20190604T125226Z
LAST-MODIFIED:20190604T125226Z
UID:30108-1559656800-1559658600@birminghammommy.com
SUMMARY:Kid's Craft: Floam! at the Parnell Memorial Library
DESCRIPTION:We’re making floam at the library! Come dressed to make a mess. Registration required. Call the library at (205) 665-9207.
URL:https://birminghammommy.com/event/kids-craft-floam-at-the-parnell-memorial-library/
LOCATION:Parnell Memorial Library\, 277 Park Drive\, Montevallo\, AL\, 35115\, United States
ORGANIZER;CN="Parnell Memorial Library":MAILTO:skitchens@shelbycounty-al.org
END:VEVENT
BEGIN:VEVENT
DTSTART;TZID=America/Chicago:20190604T140000
DTEND;TZID=America/Chicago:20190604T150000
DTSTAMP:20260420T014335
CREATED:20190512T005440Z
LAST-MODIFIED:20190512T005440Z
UID:29937-1559656800-1559660400@birminghammommy.com
SUMMARY:Animal Tales: Creatures of the Galaxy
DESCRIPTION:An educational animal program with out of this world animals! \n\n\n\n\n\n\nA variety of exotic animals from all around the world that can be found throughout the cosmos in Constellations.  Program will be provided on the Library Plaza.  Space is limited\, come early to ensure a seat.
URL:https://birminghammommy.com/event/animal-tales-creatures-of-the-galaxy-2/2019-06-04/
LOCATION:Hoover Public Library\, 200 Municiple Drive\, Hoover\, AL\, 35216
GEO:33.387905;-86.8061018
X-APPLE-STRUCTURED-LOCATION;VALUE=URI;X-ADDRESS=Hoover Public Library 200 Municiple Drive Hoover AL 35216;X-APPLE-RADIUS=500;X-TITLE=200 Municiple Drive:geo:-86.8061018,33.387905
END:VEVENT
BEGIN:VEVENT
DTSTART;TZID=America/Chicago:20190604T170000
DTEND;TZID=America/Chicago:20190604T200000
DTSTAMP:20260420T014335
CREATED:20190414T230611Z
LAST-MODIFIED:20190414T235244Z
UID:29151-1559667600-1559678400@birminghammommy.com
SUMMARY:West Homewood Farmer's Market
DESCRIPTION:2019 (All Ages) Join us at the West Homewood Farmer’s Market for kid’s crafts and a fun scavenger hunt!
URL:https://birminghammommy.com/event/west-homewood-farmers-market/
LOCATION:West Homewood Farmer’s Market\, 160 Oxmoor Road\, Homewood\, 35209
END:VEVENT
BEGIN:VEVENT
DTSTART;TZID=America/Chicago:20190604T190500
DTEND;TZID=America/Chicago:20190604T220500
DTSTAMP:20260420T014335
CREATED:20190507T014221Z
LAST-MODIFIED:20190507T014221Z
UID:29729-1559675100-1559685900@birminghammommy.com
SUMMARY:Birmingham Barons V. Jackson Generals
DESCRIPTION:Promotion: T-Shirt Tuesday  \n\n\n\n\n\n\nThe first 1\,000 adults in attendance will recieve a free Barons inspired t-shirt. | Presented By Paycor \n\n Game Highlight: Dollar Hot Dogs \n\n\n\n\n\n\n\n\n\n\n\nBring the entire family out for Dollar Hot Dog night! | Presented By Flowers Bakery & Kayem Franks \n\n\n\n\n\n\nGeneral Admission seats remain the same price as in recent years with adult tickets available for $7.00. Children (12-years and younger)\, seniors (60 years and older) and members of the military receive $1.00 discounts on the listed prices for all reserved and general admission seats. General Admission seating is located in the right field bleachers and the berm seating areas.
URL:https://birminghammommy.com/event/birmingham-barons-v-jackson-generals-8/
LOCATION:Regions Field\, 1401 1st Avenue S\, Birmingham\, 35233
GEO:33.5075002;-86.8105789
X-APPLE-STRUCTURED-LOCATION;VALUE=URI;X-ADDRESS=Regions Field 1401 1st Avenue S Birmingham 35233;X-APPLE-RADIUS=500;X-TITLE=1401 1st Avenue S:geo:-86.8105789,33.5075002
END:VEVENT
BEGIN:VEVENT
DTSTART;TZID=America/Chicago:20190605T091500
DTEND;TZID=America/Chicago:20190605T094500
DTSTAMP:20260420T014335
CREATED:20190604T125226Z
LAST-MODIFIED:20190607T141655Z
UID:30104-1559726100-1559727900@birminghammommy.com
SUMMARY:Storytime at Parnell Memorial Library
DESCRIPTION:Stories and songs for kids and their caregivers\, featuring Mr. Mac! Free\, no registration required.
URL:https://birminghammommy.com/event/storytime-at-parnell-memorial-library/2019-06-05/
LOCATION:Parnell Memorial Library\, 277 Park Drive\, Montevallo\, AL\, 35115\, United States
ORGANIZER;CN="Parnell Memorial Library":MAILTO:skitchens@shelbycounty-al.org
END:VEVENT
BEGIN:VEVENT
DTSTART;TZID=America/Chicago:20190605T103000
DTEND;TZID=America/Chicago:20190605T110000
DTSTAMP:20260420T014335
CREATED:20190414T235005Z
LAST-MODIFIED:20190414T235244Z
UID:29154-1559730600-1559732400@birminghammommy.com
SUMMARY:Story Bunch with Ms. Alicia at Homewood Library
DESCRIPTION:2019 (Preschool) Join Ms. Alicia for stories\, songs and lots of fun!
URL:https://birminghammommy.com/event/story-bunch-with-ms-alicia-at-homewood-library/
LOCATION:Homewood Public Library\, Select a Country:
GEO:-12.0470469;-77.032263
END:VEVENT
BEGIN:VEVENT
DTSTART;TZID=America/Chicago:20190605T103000
DTEND;TZID=America/Chicago:20190605T113000
DTSTAMP:20260420T014335
CREATED:20190512T010115Z
LAST-MODIFIED:20190512T010115Z
UID:29945-1559730600-1559734200@birminghammommy.com
SUMMARY:Animal Tales: Creatures of the Galaxy
DESCRIPTION:An educational animal program with out of this world animals! \n\n\n\n\n\n\nA variety of exotic animals from all around the world that can be found throughout the cosmos in Constellations.  Program will be provided on the Library Plaza.  Space is limited\, come early to ensure a seat.
URL:https://birminghammommy.com/event/animal-tales-creatures-of-the-galaxy-3/2019-06-05/
LOCATION:Hoover Public Library\, 200 Municiple Drive\, Hoover\, AL\, 35216
GEO:33.387905;-86.8061018
X-APPLE-STRUCTURED-LOCATION;VALUE=URI;X-ADDRESS=Hoover Public Library 200 Municiple Drive Hoover AL 35216;X-APPLE-RADIUS=500;X-TITLE=200 Municiple Drive:geo:-86.8061018,33.387905
END:VEVENT
BEGIN:VEVENT
DTSTART;TZID=America/Chicago:20190605T110000
DTEND;TZID=America/Chicago:20190605T140000
DTSTAMP:20260420T014335
CREATED:20190507T021729Z
LAST-MODIFIED:20190507T021729Z
UID:29731-1559732400-1559743200@birminghammommy.com
SUMMARY:Birmingham Barons V. Jackson Generals
DESCRIPTION:Game Highlight: Kids Camp  \n\n\n\n\n\n\nKids from summer camps are welcome to Regions Field to enjoy a ballgame. \n\n\n\n\n\n\nGeneral Admission seats remain the same price as in recent years with adult tickets available for $7.00. Children (12-years and younger)\, seniors (60 years and older) and members of the military receive $1.00 discounts on the listed prices for all reserved and general admission seats. General Admission seating is located in the right field bleachers and the berm seating areas.
URL:https://birminghammommy.com/event/birmingham-barons-v-jackson-generals-9/
LOCATION:Regions Field\, 1401 1st Avenue S\, Birmingham\, 35233
GEO:33.5075002;-86.8105789
X-APPLE-STRUCTURED-LOCATION;VALUE=URI;X-ADDRESS=Regions Field 1401 1st Avenue S Birmingham 35233;X-APPLE-RADIUS=500;X-TITLE=1401 1st Avenue S:geo:-86.8105789,33.5075002
END:VEVENT
BEGIN:VEVENT
DTSTART;TZID=America/Chicago:20190605T140000
DTEND;TZID=America/Chicago:20190605T160000
DTSTAMP:20260420T014335
CREATED:20190510T213032Z
LAST-MODIFIED:20190510T213032Z
UID:29828-1559743200-1559750400@birminghammommy.com
SUMMARY:Mt Laurel Family Movie
DESCRIPTION:Join us for a showing of a movie each Tuesday. Snacks will be served! Movie list available at the library. Registration is not required. 
URL:https://birminghammommy.com/event/mt-laurel-family-movie-2/
LOCATION:Mt Laurel Library\, 111 Olmsted St\, Birmingham\, AL\, 35242
GEO:33.4096347;-86.6292618
X-APPLE-STRUCTURED-LOCATION;VALUE=URI;X-ADDRESS=Mt Laurel Library 111 Olmsted St Birmingham AL 35242;X-APPLE-RADIUS=500;X-TITLE=111 Olmsted St:geo:-86.6292618,33.4096347
END:VEVENT
BEGIN:VEVENT
DTSTART;TZID=America/Chicago:20190605T150000
DTEND;TZID=America/Chicago:20190605T154500
DTSTAMP:20260420T014335
CREATED:20190604T125226Z
LAST-MODIFIED:20190604T125226Z
UID:30110-1559746800-1559749500@birminghammommy.com
SUMMARY:Crocheting for Teens at the Parnell Memorial Library
DESCRIPTION:Ever wish you could learn how to crochet? This is your chance! For rising 6th – 12th graders. Free\, no registration required.
URL:https://birminghammommy.com/event/crocheting-for-teens-at-the-parnell-memorial-library-2/
LOCATION:Parnell Memorial Library\, 277 Park Drive\, Montevallo\, AL\, 35115\, United States
ORGANIZER;CN="Parnell Memorial Library":MAILTO:skitchens@shelbycounty-al.org
END:VEVENT
BEGIN:VEVENT
DTSTART;TZID=America/Chicago:20190605T153000
DTEND;TZID=America/Chicago:20190605T163000
DTSTAMP:20260420T014335
CREATED:20190414T235057Z
LAST-MODIFIED:20190414T235244Z
UID:29156-1559748600-1559752200@birminghammommy.com
SUMMARY:Tween Cosmic Art at Homewood Library
DESCRIPTION:Get inspired by the cosmos and create beautiful works of art.
URL:https://birminghammommy.com/event/tween-cosmic-art-at-homewood-library/
LOCATION:Homewood Public Library\, 1721 Oxmoor Road\, Homewood\, AL\, 35209\, United States
GEO:33.4750533;-86.795404
X-APPLE-STRUCTURED-LOCATION;VALUE=URI;X-ADDRESS=Homewood Public Library 1721 Oxmoor Road Homewood AL 35209 United States;X-APPLE-RADIUS=500;X-TITLE=1721 Oxmoor Road:geo:-86.795404,33.4750533
END:VEVENT
BEGIN:VEVENT
DTSTART;TZID=America/Chicago:20190606T103000
DTEND;TZID=America/Chicago:20190606T110000
DTSTAMP:20260420T014335
CREATED:20190510T213310Z
LAST-MODIFIED:20190510T213310Z
UID:29830-1559817000-1559818800@birminghammommy.com
SUMMARY:Toddler Tales at North Shelby Library
DESCRIPTION:Stories\, songs\, and fingerplays make up a lively 30 minute program designed especially for toddlers. Registration will begin one week prior to each storytime. Ages 19-36 months. Registration required and opens 1 week before program.
URL:https://birminghammommy.com/event/toddler-tales-at-north-shelby-library-3/
LOCATION:North Shelby Library\, 5521 Cahaba Valley Road\, Birmingham\, AL\, 35242
GEO:33.3646429;-86.7165499
X-APPLE-STRUCTURED-LOCATION;VALUE=URI;X-ADDRESS=North Shelby Library 5521 Cahaba Valley Road Birmingham AL 35242;X-APPLE-RADIUS=500;X-TITLE=5521 Cahaba Valley Road:geo:-86.7165499,33.3646429
END:VEVENT
BEGIN:VEVENT
DTSTART;TZID=America/Chicago:20190606T103000
DTEND;TZID=America/Chicago:20190606T113000
DTSTAMP:20260420T014335
CREATED:20190512T010406Z
LAST-MODIFIED:20190512T010406Z
UID:29948-1559817000-1559820600@birminghammommy.com
SUMMARY:Animal Tales: Creatures of the Galaxy
DESCRIPTION:An educational animal program with out of this world animals! \n\n\n\n\n\n\nA variety of exotic animals from all around the world that can be found throughout the cosmos in Constellations.  Program will be provided on the Library Plaza.  Space is limited\, come early to ensure a seat.
URL:https://birminghammommy.com/event/animal-tales-creatures-of-the-galaxy-4/2019-06-06/
LOCATION:Hoover Public Library\, 200 Municiple Drive\, Hoover\, AL\, 35216
GEO:33.387905;-86.8061018
X-APPLE-STRUCTURED-LOCATION;VALUE=URI;X-ADDRESS=Hoover Public Library 200 Municiple Drive Hoover AL 35216;X-APPLE-RADIUS=500;X-TITLE=200 Municiple Drive:geo:-86.8061018,33.387905
END:VEVENT
BEGIN:VEVENT
DTSTART;TZID=America/Chicago:20190606T113000
DTEND;TZID=America/Chicago:20190606T120000
DTSTAMP:20260420T014335
CREATED:20190414T235131Z
LAST-MODIFIED:20190414T235244Z
UID:29158-1559820600-1559822400@birminghammommy.com
SUMMARY:Storytime at Magic City Sweet Ice
DESCRIPTION:2019 (All Ages) Join us at Magic City Sweet Ice for a special summer storytime and a discount on a sweet treat!
URL:https://birminghammommy.com/event/storytime-at-magic-city-sweet-ice/
LOCATION:Magic City Sweet Ice\, 715 Oak Grove Rd\, Homewood\, 35209
END:VEVENT
BEGIN:VEVENT
DTSTART;TZID=America/Chicago:20190606T140000
DTEND;TZID=America/Chicago:20190606T143000
DTSTAMP:20260420T014335
CREATED:20190510T213443Z
LAST-MODIFIED:20190510T213443Z
UID:29832-1559829600-1559831400@birminghammommy.com
SUMMARY:Building Tech: Grades K-3
DESCRIPTION:Explore engineering through a different building challenge each week.\n\nThis week: Boats\nCan you make a boat out of tin foil?\n\nFor Grades K-3rd. Registration required.
URL:https://birminghammommy.com/event/building-tech-grades-k-3/
LOCATION:North Shelby Library\, 5521 Cahaba Valley Road\, Birmingham\, AL\, 35242
GEO:33.3646429;-86.7165499
X-APPLE-STRUCTURED-LOCATION;VALUE=URI;X-ADDRESS=North Shelby Library 5521 Cahaba Valley Road Birmingham AL 35242;X-APPLE-RADIUS=500;X-TITLE=5521 Cahaba Valley Road:geo:-86.7165499,33.3646429
END:VEVENT
BEGIN:VEVENT
DTSTART;TZID=America/Chicago:20190606T160000
DTEND;TZID=America/Chicago:20190606T170000
DTSTAMP:20260420T014335
CREATED:20190512T010554Z
LAST-MODIFIED:20190512T010554Z
UID:29951-1559836800-1559840400@birminghammommy.com
SUMMARY:Summer STEAM: Rocket Science
DESCRIPTION:The Science Lady presents “Rocket Science” \n\n\n\n\n\n\nRegistration required for ages 6-12
URL:https://birminghammommy.com/event/summer-steam-rocket-science/
LOCATION:Hoover Public Library\, 200 Municiple Drive\, Hoover\, AL\, 35216
GEO:33.387905;-86.8061018
X-APPLE-STRUCTURED-LOCATION;VALUE=URI;X-ADDRESS=Hoover Public Library 200 Municiple Drive Hoover AL 35216;X-APPLE-RADIUS=500;X-TITLE=200 Municiple Drive:geo:-86.8061018,33.387905
END:VEVENT
BEGIN:VEVENT
DTSTART;TZID=America/Chicago:20190606T163000
DTEND;TZID=America/Chicago:20190606T173000
DTSTAMP:20260420T014335
CREATED:20190414T235244Z
LAST-MODIFIED:20190414T235244Z
UID:29161-1559838600-1559842200@birminghammommy.com
SUMMARY:Learn Japanese at Homewood Library
DESCRIPTION:2019 (3-5 Grade) Learn common Japanese words and phrases in this three-week class. Registration is required.
URL:https://birminghammommy.com/event/learn-japanese-at-homewood-library-2/
LOCATION:Homewood Public Library\, 1721 Oxmoor Road\, Homewood\, AL\, 35209\, United States
GEO:33.4750533;-86.795404
X-APPLE-STRUCTURED-LOCATION;VALUE=URI;X-ADDRESS=Homewood Public Library 1721 Oxmoor Road Homewood AL 35209 United States;X-APPLE-RADIUS=500;X-TITLE=1721 Oxmoor Road:geo:-86.795404,33.4750533
END:VEVENT
BEGIN:VEVENT
DTSTART;TZID=America/Chicago:20190606T180000
DTEND;TZID=America/Chicago:20190606T184500
DTSTAMP:20260420T014335
CREATED:20190426T182156Z
LAST-MODIFIED:20190426T182156Z
UID:29470-1559844000-1559846700@birminghammommy.com
SUMMARY:Books and Brushes Art Night at Homewood Library
DESCRIPTION:2019 (All Ages) Join us for a night of creation inspired by Stitchin’ and Pullin’: A Gee’s Bend Quilt by Patricia McKissack.
URL:https://birminghammommy.com/event/books-and-brushes-art-night-at-homewood-library/
LOCATION:Homewood Public Library\, 1721 Oxmoor Road\, Homewood\, AL\, 35209\, United States
GEO:33.4750533;-86.795404
X-APPLE-STRUCTURED-LOCATION;VALUE=URI;X-ADDRESS=Homewood Public Library 1721 Oxmoor Road Homewood AL 35209 United States;X-APPLE-RADIUS=500;X-TITLE=1721 Oxmoor Road:geo:-86.795404,33.4750533
END:VEVENT
BEGIN:VEVENT
DTSTART;TZID=America/Chicago:20190606T183000
DTEND;TZID=America/Chicago:20190606T191500
DTSTAMP:20260420T014335
CREATED:20190510T213555Z
LAST-MODIFIED:20190510T213555Z
UID:29834-1559845800-1559848500@birminghammommy.com
SUMMARY:Pajama Storytime
DESCRIPTION:Come in your PJs\, have milk and cookies\, and hear some wonderful bedtime tales. Suited for ages 3 and up. No Registration Required.
URL:https://birminghammommy.com/event/pajama-storytime-7/
LOCATION:North Shelby Library\, 5521 Cahaba Valley Road\, Birmingham\, AL\, 35242
GEO:33.3646429;-86.7165499
X-APPLE-STRUCTURED-LOCATION;VALUE=URI;X-ADDRESS=North Shelby Library 5521 Cahaba Valley Road Birmingham AL 35242;X-APPLE-RADIUS=500;X-TITLE=5521 Cahaba Valley Road:geo:-86.7165499,33.3646429
END:VEVENT
BEGIN:VEVENT
DTSTART;TZID=America/Chicago:20190606T190500
DTEND;TZID=America/Chicago:20190606T220500
DTSTAMP:20260420T014335
CREATED:20190507T022244Z
LAST-MODIFIED:20190507T022244Z
UID:29733-1559847900-1559858700@birminghammommy.com
SUMMARY:Birmingham Barons V. Jackson Generals
DESCRIPTION:Game Highlight: Thirsty Thursday  \n\n\n\n\n\n\nCome out and enjoy a game at Regions Field with your best pal on Thirsty Thursday. On this night 16oz beverages for just $2 \n\n\n\n\n\n\nGeneral Admission seats remain the same price as in recent years with adult tickets available for $7.00. Children (12-years and younger)\, seniors (60 years and older) and members of the military receive $1.00 discounts on the listed prices for all reserved and general admission seats. General Admission seating is located in the right field bleachers and the berm seating areas.
URL:https://birminghammommy.com/event/birmingham-barons-v-jackson-generals-10/
LOCATION:Regions Field\, 1401 1st Avenue S\, Birmingham\, 35233
GEO:33.5075002;-86.8105789
X-APPLE-STRUCTURED-LOCATION;VALUE=URI;X-ADDRESS=Regions Field 1401 1st Avenue S Birmingham 35233;X-APPLE-RADIUS=500;X-TITLE=1401 1st Avenue S:geo:-86.8105789,33.5075002
END:VEVENT
END:VCALENDAR