BEGIN:VCALENDAR
VERSION:2.0
PRODID:-//Birmingham Mommy - ECPv6.3.5//NONSGML v1.0//EN
CALSCALE:GREGORIAN
METHOD:PUBLISH
X-ORIGINAL-URL:https://birminghammommy.com
X-WR-CALDESC:Events for Birmingham Mommy
REFRESH-INTERVAL;VALUE=DURATION:PT1H
X-Robots-Tag:noindex
X-PUBLISHED-TTL:PT1H
BEGIN:VTIMEZONE
TZID:America/Chicago
BEGIN:DAYLIGHT
TZOFFSETFROM:-0600
TZOFFSETTO:-0500
TZNAME:CDT
DTSTART:20190310T080000
END:DAYLIGHT
BEGIN:STANDARD
TZOFFSETFROM:-0500
TZOFFSETTO:-0600
TZNAME:CST
DTSTART:20191103T070000
END:STANDARD
END:VTIMEZONE
BEGIN:VEVENT
DTSTART;TZID=America/Chicago:20190504T090000
DTEND;TZID=America/Chicago:20190504T163000
DTSTAMP:20260419T194915
CREATED:20190430T175917Z
LAST-MODIFIED:20190430T175917Z
UID:29617-1556960400-1556987400@birminghammommy.com
SUMMARY:Star Wars Day at CHOM!
DESCRIPTION:Star Wars Day at CHOM! \n“May the 4th Be With You!” \nSaturday\, May 4\, 2019   9 am – 4:30 pm \nDesign a Droid! \nHave a Lightsaber Battle! \nAdopt a Wookie!   \n 
URL:https://birminghammommy.com/event/star-wars-day-at-chom/
LOCATION:Children’s Hands-On Museum\, 2213 University Blvd.\, Tuscaloosa\, AL\, 35401\, United States
ATTACH;FMTTYPE=image/jpeg:https://birminghammommy.com/wp-content/uploads/2019/04/May-the-Fourth-be-with-You-5-4-19-RG.jpg
END:VEVENT
BEGIN:VEVENT
DTSTART;TZID=America/Chicago:20190504T100000
DTEND;TZID=America/Chicago:20190504T150000
DTSTAMP:20260419T194915
CREATED:20190423T131821Z
LAST-MODIFIED:20190423T131821Z
UID:29325-1556964000-1556982000@birminghammommy.com
SUMMARY:1818 Farms Yoga Retreat
DESCRIPTION:  \n\n\n\nA spring yoga retreat where you will spend the day focusing on wellness and self-nurturing. Hosted at 1818 Farms\, attendees will participate in three different yoga classes (Vinyasa Flow\, Yin\, and a Breathe Meditation) all taught by yoga instructor Cathy Lighton. These classes will be spread out during the day. Chef Jakob Reed from Huntsville\, AL\, will lead an engaging and informative cooking demonstration of healthy dishes\, including vegan and paleo options. After the cooking demonstration\, a three course lunch will be served. In the afternoon\, Natasha McCrary\, will lead an interactive make and take session where participants will plant a decorative succulent cup and discuss care and prorogation tips. Participants will also spend time meeting our new lambs and the farm family of 1818 Farms.
URL:https://birminghammommy.com/event/1818-farms-yoga-retreat/
LOCATION:1818 Farms\, 24889 Lauderdale Street\, Mooresville\, Alabama\, 35649\, Select a Country:
ATTACH;FMTTYPE=image/jpeg:https://birminghammommy.com/wp-content/uploads/2019/04/Yoga_Retreat_large.jpg
END:VEVENT
BEGIN:VEVENT
DTSTART;TZID=America/Chicago:20190505T160000
DTEND;TZID=America/Chicago:20190505T190000
DTSTAMP:20260419T194915
CREATED:20190423T131906Z
LAST-MODIFIED:20190423T131906Z
UID:29291-1557072000-1557082800@birminghammommy.com
SUMMARY:SHIPT Yoga On The Green
DESCRIPTION:Come for the yoga and namaste for the wine! Enjoy a lovely evening of fitness and fellowship outdoors featuring music by DJ Rusty Russell\, door prizes\, appetizers and drinks. Reserve your spot with a $10 donation and receive two free tickets ($50 value) to the Regions Tradition. Salute the sun and kick off the Regions Tradition with an inclusive community event benefitting Children’s of Alabama.
URL:https://birminghammommy.com/event/shipt-yoga-on-the-green-5/
LOCATION:Greystone Golf & Country Club\, 4100 Greystone Drive\, Hoover\, 35242\, United States
END:VEVENT
BEGIN:VEVENT
DTSTART;TZID=America/Chicago:20190506T090000
DTEND;TZID=America/Chicago:20190506T170000
DTSTAMP:20260419T194915
CREATED:20190414T213657Z
LAST-MODIFIED:20190414T213657Z
UID:29118-1557133200-1557162000@birminghammommy.com
SUMMARY:Home School Day at McWane
DESCRIPTION:Is your child a home school student looking for a fun and educational way to spend the day? Plan a trip to McWane Science Center on Home School Day (first Monday of each month)! There will be special programs\, live science demonstrations\, and a discounted ticket price: FREE for home school parents\, $7 for kids\, and $6 for accompanying adults.
URL:https://birminghammommy.com/event/home-school-day-at-mcwane/
LOCATION:McWane Science Center\, 200 19th Street North\, Birmingham\, AL\, 35203
GEO:33.5149315;-86.8083142
X-APPLE-STRUCTURED-LOCATION;VALUE=URI;X-ADDRESS=McWane Science Center 200 19th Street North Birmingham AL 35203;X-APPLE-RADIUS=500;X-TITLE=200 19th Street North:geo:-86.8083142,33.5149315
END:VEVENT
BEGIN:VEVENT
DTSTART;TZID=America/Chicago:20190507T093000
DTEND;TZID=America/Chicago:20190507T100000
DTSTAMP:20260419T194915
CREATED:20190414T220212Z
LAST-MODIFIED:20190414T220212Z
UID:29128-1557221400-1557223200@birminghammommy.com
SUMMARY:Wee Ones at Homewood Library
DESCRIPTION:(Ages 0-3) Join Ms. Mary for a fun and energetic storytime for ages three and under. Small snack provided.
URL:https://birminghammommy.com/event/wee-ones-at-homewood-library-3/2019-05-07/
LOCATION:Homewood Public Library\, Select a Country:
GEO:-12.0470469;-77.032263
END:VEVENT
BEGIN:VEVENT
DTSTART;VALUE=DATE:20190508
DTEND;VALUE=DATE:20190513
DTSTAMP:20260419T194915
CREATED:20190423T131846Z
LAST-MODIFIED:20190423T131846Z
UID:29295-1557273600-1557705599@birminghammommy.com
SUMMARY:Regions Tradition
DESCRIPTION:The 27thannual Regions Tradition returns to Greystone Golf & Country Club May 8-12. Join the excitement of the PGA TOUR Champions and experience the best of the Magic City’s entertainment: golf with football greats at the celebrity Pro-Am\, get refreshed at the tournament’s social center The Watering Hole\, and relive the glory days as The Black Jacket Symphony presents the Rolling Stones’ Sticky Fingers album. Make lasting memories with family and friends while supporting a great cause as the primary beneficiary of the tournament is Children’s of Alabama.
URL:https://birminghammommy.com/event/regions-tradition-2/
LOCATION:Greystone Golf & Country Club\, 4100 Greystone Drive\, Hoover\, 35242\, United States
ORGANIZER;CN="Regions Tradition":MAILTO:tickets@regionstradition.com
END:VEVENT
BEGIN:VEVENT
DTSTART;TZID=America/Chicago:20190508T103000
DTEND;TZID=America/Chicago:20190508T110000
DTSTAMP:20260419T194915
CREATED:20190414T220213Z
LAST-MODIFIED:20190414T220213Z
UID:29131-1557311400-1557313200@birminghammommy.com
SUMMARY:Move and Groove Story Time at Homewood Library
DESCRIPTION:(Preschool) Join us for an interactive and energetic movement storytime filled with dance\, yoga and fun.
URL:https://birminghammommy.com/event/move-and-groove-story-time-at-homewood-library/
LOCATION:Homewood Public Library\, 1721 Oxmoor Road\, Homewood\, AL\, 35209\, United States
GEO:33.4750533;-86.795404
X-APPLE-STRUCTURED-LOCATION;VALUE=URI;X-ADDRESS=Homewood Public Library 1721 Oxmoor Road Homewood AL 35209 United States;X-APPLE-RADIUS=500;X-TITLE=1721 Oxmoor Road:geo:-86.795404,33.4750533
END:VEVENT
BEGIN:VEVENT
DTSTART;TZID=America/Chicago:20190509T103000
DTEND;TZID=America/Chicago:20190509T111500
DTSTAMP:20260419T194915
CREATED:20190414T220213Z
LAST-MODIFIED:20190414T220213Z
UID:29133-1557397800-1557400500@birminghammommy.com
SUMMARY:Preschool Playtime at Homewood Library
DESCRIPTION:(Preschool) Join us for a morning of imaginative play with your child!
URL:https://birminghammommy.com/event/preschool-playtime-at-homewood-library/
LOCATION:Homewood Public Library\, Select a Country:
GEO:-12.0470469;-77.032263
END:VEVENT
BEGIN:VEVENT
DTSTART;TZID=America/Chicago:20190510T090000
DTEND;TZID=America/Chicago:20190510T170000
DTSTAMP:20260419T194915
CREATED:20190509T011601Z
LAST-MODIFIED:20190509T011601Z
UID:29760-1557478800-1557507600@birminghammommy.com
SUMMARY:Homestead Hollow Arts & Crafts Festival
DESCRIPTION:Homestead Hollow festivals feature unique – one of a kind – hand made\, hand decorated arts and crafts. We have added antique/vintage goods to our festivals. Talk to our pioneer demonstrators of the old time days- see wood carving\, blacksmithing\, soap making\, wood stove cooking\, quilting\, and whiskey making at our original working still\, tour our original cabins as they were built by the early settlers. Visit the apiarist and learn about bee keeping. Relax by one of our many streams and listen to live local entertainment all day. Enjoy great food from our food court\, bbq\, funnel cakes\, fried pies\, ice cream\, beans\, greens\, footlong corn dogs and so much more! Children’s activities: wagon rides\, bunjy jump\, moonwalk\, face painting Homestead Hollow’s General store is open for you to visit and shop for those home-made fried pies and other great items all day during show dates. \n\nAdults – $8 ~ Children (ages 3 to 12) – $4\nChildren (ages 2 and under) – Free.\nFree Parking. NO PETS ALLOWED. \nHomestead Hollow is located in Springville\, Alabama\, just 2 miles off I-59\, exit 154. 27 acres of parking and our golf cart shuttles make it easy to park\, get to the entrance and start having fun immediately.
URL:https://birminghammommy.com/event/homestead-hollow-arts-crafts-festival-6/2019-05-10/
LOCATION:Homestead Hollow\, 1190 Murphees Valley Rd\, Springville\, AL\, 35146
GEO:33.7811822;-86.4822307
X-APPLE-STRUCTURED-LOCATION;VALUE=URI;X-ADDRESS=Homestead Hollow 1190 Murphees Valley Rd Springville AL 35146;X-APPLE-RADIUS=500;X-TITLE=1190 Murphees Valley Rd:geo:-86.4822307,33.7811822
END:VEVENT
BEGIN:VEVENT
DTSTART;TZID=America/Chicago:20190511T083000
DTEND;TZID=America/Chicago:20190511T110000
DTSTAMP:20260419T194915
CREATED:20190423T131821Z
LAST-MODIFIED:20190423T131821Z
UID:29328-1557563400-1557572400@birminghammommy.com
SUMMARY:1818 Farms Open Farm Days FREE
DESCRIPTION:  \n\n\n\nCome and meet all of the animal friends and visit the 1818 Farms Flower Truck! For a few select Saturdays this year\, 1818 Farms will be open to the public\, free of charge. You will be able to walk the grounds\, see the animals\, view the flower garden up close\, shop for your favorite 1818 Farms products\, and meet Natasha McCrary. The 1818 Farms Flower Truck will be on site and flowers will be available for sale.
URL:https://birminghammommy.com/event/1818-farms-open-farm-days-free-4/
LOCATION:1818 Farms\, 24889 Lauderdale Street\, Mooresville\, Alabama\, 35649\, Select a Country:
ATTACH;FMTTYPE=image/jpeg:https://birminghammommy.com/wp-content/uploads/2019/04/open-farm-days.jpg
END:VEVENT
BEGIN:VEVENT
DTSTART;TZID=America/Chicago:20190511T090000
DTEND;TZID=America/Chicago:20190511T150000
DTSTAMP:20260419T194915
CREATED:20190509T011945Z
LAST-MODIFIED:20190509T011945Z
UID:29764-1557565200-1557586800@birminghammommy.com
SUMMARY:Mother's Day Weekend at the Birmingham Zoo
DESCRIPTION:In recognition of Mother’s Day\, during the weekend of May 11 and 12\, every paying adult admission will receive one FREE child’s admission to the Birmingham Zoo! Create memories that will last a lifetime at the Birmingham Zoo this Mother’s Day. \n\nOne (1) FREE Child’s admission with the purchase of one (1) Adult admission.\n*This offer is exclusive for Mother’s Day Weekend only. Cannot be combined with any other offers\, discounts or coupons. \n**Please note\, the Zoo will close at 3pm on Saturday\, May 11
URL:https://birminghammommy.com/event/mothers-day-weekend-at-the-birmingham-zoo/2019-05-11/
LOCATION:Birmingham Zoo\, 2630 Cahaba Road\, Birmingham \, AL\, 35223
GEO:33.4867334;-86.7789473
X-APPLE-STRUCTURED-LOCATION;VALUE=URI;X-ADDRESS=Birmingham Zoo 2630 Cahaba Road Birmingham  AL 35223;X-APPLE-RADIUS=500;X-TITLE=2630 Cahaba Road:geo:-86.7789473,33.4867334
END:VEVENT
BEGIN:VEVENT
DTSTART;TZID=America/Chicago:20190511T090000
DTEND;TZID=America/Chicago:20190511T163000
DTSTAMP:20260419T194915
CREATED:20190506T232220Z
LAST-MODIFIED:20190506T232220Z
UID:29691-1557565200-1557592200@birminghammommy.com
SUMMARY:Mother's Day Celebration at CHOM!
DESCRIPTION:Mother’s Day Celebration at CHOM! \nSaturday\, May 11\, 2019   9 am – 4:30 pm \nMake a Card! \nAll about Mom Activity! \nPlay our Animal Mommies Matching Game! \n  \n 
URL:https://birminghammommy.com/event/mothers-day-celebration-at-chom/
LOCATION:Children’s Hands-On Museum\, 2213 University Blvd.\, Tuscaloosa\, AL\, 35401\, United States
ATTACH;FMTTYPE=image/jpeg:https://birminghammommy.com/wp-content/uploads/2019/05/Mothers-Day-5-11-19-RG.jpg
END:VEVENT
BEGIN:VEVENT
DTSTART;TZID=America/Chicago:20190511T100000
DTEND;TZID=America/Chicago:20190511T140000
DTSTAMP:20260419T194915
CREATED:20190509T192250Z
LAST-MODIFIED:20190509T192250Z
UID:29777-1557568800-1557583200@birminghammommy.com
SUMMARY:Mt Laurel Crafty Saturday
DESCRIPTION:Drop in to make a craft at the library. All ages with parent help. Registration is not required but supplies are limited.
URL:https://birminghammommy.com/event/mt-laurel-crafty-saturday-6/
LOCATION:Mt Laurel Library\, 111 Olmsted St\, Birmingham\, AL\, 35242
GEO:33.4096347;-86.6292618
X-APPLE-STRUCTURED-LOCATION;VALUE=URI;X-ADDRESS=Mt Laurel Library 111 Olmsted St Birmingham AL 35242;X-APPLE-RADIUS=500;X-TITLE=111 Olmsted St:geo:-86.6292618,33.4096347
END:VEVENT
BEGIN:VEVENT
DTSTART;TZID=America/Chicago:20190511T100000
DTEND;TZID=America/Chicago:20190511T180000
DTSTAMP:20260419T194915
CREATED:20190509T010827Z
LAST-MODIFIED:20190509T010827Z
UID:29752-1557568800-1557597600@birminghammommy.com
SUMMARY:Working Dog Day at McWane
DESCRIPTION:Come meet and celebrate local working dogs; see our newest IMAX film\, ‘Superpower Dogs’\, which showcases the accomplishments of dogs with jobs.
URL:https://birminghammommy.com/event/working-dog-day-at-mcwane/
LOCATION:McWane Science Center\, 200 19th Street North\, Birmingham\, AL\, 35203
GEO:33.5149315;-86.8083142
X-APPLE-STRUCTURED-LOCATION;VALUE=URI;X-ADDRESS=McWane Science Center 200 19th Street North Birmingham AL 35203;X-APPLE-RADIUS=500;X-TITLE=200 19th Street North:geo:-86.8083142,33.5149315
END:VEVENT
BEGIN:VEVENT
DTSTART;TZID=America/Chicago:20190511T110000
DTEND;TZID=America/Chicago:20190511T140000
DTSTAMP:20260419T194915
CREATED:20190509T011041Z
LAST-MODIFIED:20190509T011041Z
UID:29754-1557572400-1557583200@birminghammommy.com
SUMMARY:Alabama Wildlife Center Baby Bird Shower
DESCRIPTION:You’re invited! How tweet it is; we’re expecting! Approximately 1\,000 baby birds will arrive at the Alabama Wildlife Center this year. Come join in the fun and help AWC prepare for baby bird season. Meet live raptors\, enjoy cake & refreshments\, baby bird videos\, fun children’s activities\, tour bird nursery & aviaries\, and bring a gift for the babies. See AWC website & Facebook page for Baby Bird Wish List\, updates & details: awrc.org. Free after paid admission to Oak Mountain State Park. \n\nFree after paid admission to Oak Mountain State Park \nadults: $5 \nchildren 4-11 and seniors 62+: $2 \nchildren age 3 and under: free
URL:https://birminghammommy.com/event/alabama-wildlife-center-baby-bird-shower/
LOCATION:Oak mountain State Park\, 200 Terrace Drive\, Pelham\, AL\, 35214
GEO:33.3247302;-86.7593249
X-APPLE-STRUCTURED-LOCATION;VALUE=URI;X-ADDRESS=Oak mountain State Park 200 Terrace Drive Pelham AL 35214;X-APPLE-RADIUS=500;X-TITLE=200 Terrace Drive:geo:-86.7593249,33.3247302
END:VEVENT
BEGIN:VEVENT
DTSTART;TZID=America/Chicago:20190511T120000
DTEND;TZID=America/Chicago:20190511T150000
DTSTAMP:20260419T194915
CREATED:20190509T011226Z
LAST-MODIFIED:20190509T011226Z
UID:29756-1557576000-1557586800@birminghammommy.com
SUMMARY:Free Family Day at ArtPlay: Fun in the Garden
DESCRIPTION:Get your hands dirty with some springtime fun! Help us bring out the art of nature with activities\, games and live music! \n\nNo RSVP required\, just show up! For questions or more information\, please call 205-975-4769
URL:https://birminghammommy.com/event/free-family-day-at-artplay-fun-in-the-garden/
LOCATION:Art play\, 1006 19th Street South\, Birmingham\, Al\, 35205
END:VEVENT
BEGIN:VEVENT
DTSTART;TZID=America/Chicago:20190512T113000
DTEND;TZID=America/Chicago:20190512T133000
DTSTAMP:20260419T194915
CREATED:20190507T023938Z
LAST-MODIFIED:20190507T023938Z
UID:29738-1557660600-1557667800@birminghammommy.com
SUMMARY:The Rock and Roll Playhouse Presents Music from The Beatles
DESCRIPTION:The Rock And Roll Playhouse: The Music of The Beatles for Kids at Saturn! \nThe Rock and Roll Playhouse band offers its core audience of families with children age ten and under games\, movement\, stories and an opportunity to rock out in an effort to educate children and explore their creativity. As such\, The Rock and Roll Playhouse is an early and often first introduction to a child’s lifelong journey with live music and rock and roll. Come play!
URL:https://birminghammommy.com/event/the-rock-and-roll-playhouse-presents-music-from-the-beatles/
LOCATION:Saturn\, 200 41st St S\, Birmingham\, AL\, 35222
ATTACH;FMTTYPE=image/png:https://birminghammommy.com/wp-content/uploads/2019/05/20190512_rrphBeatles_650x831_saturn.png
END:VEVENT
BEGIN:VEVENT
DTSTART;TZID=America/Chicago:20190512T120000
DTEND;TZID=America/Chicago:20190512T180000
DTSTAMP:20260419T194915
CREATED:20190509T011406Z
LAST-MODIFIED:20190509T011406Z
UID:29758-1557662400-1557684000@birminghammommy.com
SUMMARY:Mother's Day at McWane
DESCRIPTION:Where would we be without our Moms? So\, on May 12\, let us honor the special ladies with free admission to McWane.
URL:https://birminghammommy.com/event/mothers-day-at-mcwane/
LOCATION:McWane Science Center\, 200 19th Street North\, Birmingham\, AL\, 35203
GEO:33.5149315;-86.8083142
X-APPLE-STRUCTURED-LOCATION;VALUE=URI;X-ADDRESS=McWane Science Center 200 19th Street North Birmingham AL 35203;X-APPLE-RADIUS=500;X-TITLE=200 19th Street North:geo:-86.8083142,33.5149315
END:VEVENT
BEGIN:VEVENT
DTSTART;TZID=America/Chicago:20190513T100000
DTEND;TZID=America/Chicago:20190513T103000
DTSTAMP:20260419T194915
CREATED:20190509T192442Z
LAST-MODIFIED:20190509T192442Z
UID:29779-1557741600-1557743400@birminghammommy.com
SUMMARY:Toddler Tales at North Shelby Library
DESCRIPTION:Stories\, songs\, and fingerplays make up a lively 30 minute program designed especially for toddlers. Registration will begin one week prior to each storytime. Ages 19-36 months. Registration required and opens 1 week before program.
URL:https://birminghammommy.com/event/toddler-tales-at-north-shelby-library-2/
LOCATION:North Shelby Library\, 5521 Cahaba Valley Road\, Birmingham\, AL\, 35242
GEO:33.3646429;-86.7165499
X-APPLE-STRUCTURED-LOCATION;VALUE=URI;X-ADDRESS=North Shelby Library 5521 Cahaba Valley Road Birmingham AL 35242;X-APPLE-RADIUS=500;X-TITLE=5521 Cahaba Valley Road:geo:-86.7165499,33.3646429
END:VEVENT
BEGIN:VEVENT
DTSTART;TZID=America/Chicago:20190514T100000
DTEND;TZID=America/Chicago:20190514T104500
DTSTAMP:20260419T194915
CREATED:20190509T192602Z
LAST-MODIFIED:20190509T192602Z
UID:29781-1557828000-1557830700@birminghammommy.com
SUMMARY:Puppet Tales North Shelby Library
DESCRIPTION:A new storytime filled with puppet fun! Watch stories and songs come alive through puppets and make a small puppet to take! Registration will begin three weeks prior to program date. \nDesigned for ages 2-5. Registration required.
URL:https://birminghammommy.com/event/puppet-tales-north-shelby-library/
LOCATION:North Shelby Library\, 5521 Cahaba Valley Road\, Birmingham\, AL\, 35242
GEO:33.3646429;-86.7165499
X-APPLE-STRUCTURED-LOCATION;VALUE=URI;X-ADDRESS=North Shelby Library 5521 Cahaba Valley Road Birmingham AL 35242;X-APPLE-RADIUS=500;X-TITLE=5521 Cahaba Valley Road:geo:-86.7165499,33.3646429
END:VEVENT
BEGIN:VEVENT
DTSTART;TZID=America/Chicago:20190514T183000
DTEND;TZID=America/Chicago:20190514T190000
DTSTAMP:20260419T194915
CREATED:20190514T001012Z
LAST-MODIFIED:20190514T001012Z
UID:30037-1557858600-1557860400@birminghammommy.com
SUMMARY:PJ Storytime at Vestavia Library in the Forest
DESCRIPTION:Wear your pajamas and join Ms. Courtney for exciting stories\, crafts and snacks before bedtime!
URL:https://birminghammommy.com/event/pj-storytime-at-vestavia-library-in-the-forest/
LOCATION:Vestavia Hills Library in the Forest\, 1221 Montgomery Hwy\, Vestavia Hills Library\, AL\, 35216
GEO:33.4311673;-86.7875936
X-APPLE-STRUCTURED-LOCATION;VALUE=URI;X-ADDRESS=Vestavia Hills Library in the Forest 1221 Montgomery Hwy Vestavia Hills Library AL 35216;X-APPLE-RADIUS=500;X-TITLE=1221 Montgomery Hwy:geo:-86.7875936,33.4311673
END:VEVENT
BEGIN:VEVENT
DTSTART;TZID=America/Chicago:20190515T103000
DTEND;TZID=America/Chicago:20190515T111500
DTSTAMP:20260419T194915
CREATED:20190514T001136Z
LAST-MODIFIED:20190514T001136Z
UID:30039-1557916200-1557918900@birminghammommy.com
SUMMARY:Story Friends
DESCRIPTION:Join Ms. Lisa and see your favorite stories come to life! Ages 5 and under.
URL:https://birminghammommy.com/event/story-friends-2/
LOCATION:Vestavia Hills Library in the Forest\, 1221 Montgomery Hwy\, Vestavia Hills Library\, AL\, 35216
GEO:33.4311673;-86.7875936
X-APPLE-STRUCTURED-LOCATION;VALUE=URI;X-ADDRESS=Vestavia Hills Library in the Forest 1221 Montgomery Hwy Vestavia Hills Library AL 35216;X-APPLE-RADIUS=500;X-TITLE=1221 Montgomery Hwy:geo:-86.7875936,33.4311673
END:VEVENT
BEGIN:VEVENT
DTSTART;TZID=America/Chicago:20190515T104500
DTEND;TZID=America/Chicago:20190515T113000
DTSTAMP:20260419T194915
CREATED:20190509T192755Z
LAST-MODIFIED:20190509T192755Z
UID:29783-1557917100-1557919800@birminghammommy.com
SUMMARY:Family Storytime with Mr Mac
DESCRIPTION:Stories\, puppets\, and lots of music for every member of the family. All Ages. No Registration.
URL:https://birminghammommy.com/event/family-storytime-with-mr-mac-14/2019-05-15/
LOCATION:North Shelby Library\, 5521 Cahaba Valley Road\, Birmingham\, AL\, 35242
GEO:33.3646429;-86.7165499
X-APPLE-STRUCTURED-LOCATION;VALUE=URI;X-ADDRESS=North Shelby Library 5521 Cahaba Valley Road Birmingham AL 35242;X-APPLE-RADIUS=500;X-TITLE=5521 Cahaba Valley Road:geo:-86.7165499,33.3646429
END:VEVENT
BEGIN:VEVENT
DTSTART;TZID=America/Chicago:20190515T153000
DTEND;TZID=America/Chicago:20190515T163000
DTSTAMP:20260419T194915
CREATED:20190514T001307Z
LAST-MODIFIED:20190514T001307Z
UID:30041-1557934200-1557937800@birminghammommy.com
SUMMARY:This and That Tween Program
DESCRIPTION:Calling all Tweens! Join Ms. Holly on Wednesday afternoons from 3:30 to 4:30 in the Children’s Department for fun and snacks! For 3rd-6th grade.
URL:https://birminghammommy.com/event/this-and-that-tween-program/
LOCATION:Vestavia Hills Library in the Forest\, 1221 Montgomery Hwy\, Vestavia Hills Library\, AL\, 35216
GEO:33.4311673;-86.7875936
X-APPLE-STRUCTURED-LOCATION;VALUE=URI;X-ADDRESS=Vestavia Hills Library in the Forest 1221 Montgomery Hwy Vestavia Hills Library AL 35216;X-APPLE-RADIUS=500;X-TITLE=1221 Montgomery Hwy:geo:-86.7875936,33.4311673
END:VEVENT
BEGIN:VEVENT
DTSTART;TZID=America/Chicago:20190516T093000
DTEND;TZID=America/Chicago:20190516T120000
DTSTAMP:20260419T194915
CREATED:20190514T001414Z
LAST-MODIFIED:20190514T001414Z
UID:30043-1557999000-1558008000@birminghammommy.com
SUMMARY:L.I.F.T.
DESCRIPTION:Join fellow preschoolers and their caregivers for social play with tents\, tunnels and more.
URL:https://birminghammommy.com/event/l-i-f-t-2/
LOCATION:Vestavia Hills Library in the Forest\, 1221 Montgomery Hwy\, Vestavia Hills Library\, AL\, 35216
GEO:33.4311673;-86.7875936
X-APPLE-STRUCTURED-LOCATION;VALUE=URI;X-ADDRESS=Vestavia Hills Library in the Forest 1221 Montgomery Hwy Vestavia Hills Library AL 35216;X-APPLE-RADIUS=500;X-TITLE=1221 Montgomery Hwy:geo:-86.7875936,33.4311673
END:VEVENT
BEGIN:VEVENT
DTSTART;TZID=America/Chicago:20190516T100000
DTEND;TZID=America/Chicago:20190516T103000
DTSTAMP:20260419T194915
CREATED:20190514T001531Z
LAST-MODIFIED:20190514T001531Z
UID:30045-1558000800-1558002600@birminghammommy.com
SUMMARY:Book Babies
DESCRIPTION:Ms. Lisa introduces babies birth to 18 months to the joys of storytime with a special lap-sit program.
URL:https://birminghammommy.com/event/book-babies/
LOCATION:Vestavia Hills Library in the Forest\, 1221 Montgomery Hwy\, Vestavia Hills Library\, AL\, 35216
GEO:33.4311673;-86.7875936
X-APPLE-STRUCTURED-LOCATION;VALUE=URI;X-ADDRESS=Vestavia Hills Library in the Forest 1221 Montgomery Hwy Vestavia Hills Library AL 35216;X-APPLE-RADIUS=500;X-TITLE=1221 Montgomery Hwy:geo:-86.7875936,33.4311673
END:VEVENT
BEGIN:VEVENT
DTSTART;TZID=America/Chicago:20190516T100000
DTEND;TZID=America/Chicago:20190516T104500
DTSTAMP:20260419T194915
CREATED:20190509T192941Z
LAST-MODIFIED:20190509T192941Z
UID:29791-1558000800-1558003500@birminghammommy.com
SUMMARY:Baby Tales and North Shelby Library
DESCRIPTION:A story time designed especially for babies and their caregivers. Stories and music provide interaction for the babies and time for caregivers to talk and share with each other. Ages: Birth to 18 months. Registration Required. Registration will begin two weeks prior to program date.
URL:https://birminghammommy.com/event/baby-tales-and-north-shelby-library/
LOCATION:North Shelby Library\, 5521 Cahaba Valley Road\, Birmingham\, AL\, 35242
GEO:33.3646429;-86.7165499
X-APPLE-STRUCTURED-LOCATION;VALUE=URI;X-ADDRESS=North Shelby Library 5521 Cahaba Valley Road Birmingham AL 35242;X-APPLE-RADIUS=500;X-TITLE=5521 Cahaba Valley Road:geo:-86.7165499,33.3646429
END:VEVENT
BEGIN:VEVENT
DTSTART;TZID=America/Chicago:20190516T153000
DTEND;TZID=America/Chicago:20190516T161500
DTSTAMP:20260419T194915
CREATED:20190414T220213Z
LAST-MODIFIED:20190414T220213Z
UID:29135-1558020600-1558023300@birminghammommy.com
SUMMARY:Kid Coderz at Homewood Library
DESCRIPTION:(K-1st grade) This introductory coding class introduces coding basics. A laptop is not required\, but participants are encouraged to bring their own. Register online.
URL:https://birminghammommy.com/event/kid-coderz-at-homewood-library/
LOCATION:Homewood Public Library\, Select a Country:
GEO:-12.0470469;-77.032263
END:VEVENT
BEGIN:VEVENT
DTSTART;TZID=America/Chicago:20190516T163000
DTEND;TZID=America/Chicago:20190516T171500
DTSTAMP:20260419T194915
CREATED:20190414T220213Z
LAST-MODIFIED:20190414T220213Z
UID:29137-1558024200-1558026900@birminghammommy.com
SUMMARY:Kid Coderz at Homewood Library
DESCRIPTION:(2-3 grade) This introductory coding class introduces coding basics. A laptop is not required\, but participants are encouraged to bring their own. Register online.
URL:https://birminghammommy.com/event/kid-coderz-at-homewood-library-2/
LOCATION:Homewood Public Library\, 1721 Oxmoor Road\, Homewood\, AL\, 35209\, United States
GEO:33.4750533;-86.795404
X-APPLE-STRUCTURED-LOCATION;VALUE=URI;X-ADDRESS=Homewood Public Library 1721 Oxmoor Road Homewood AL 35209 United States;X-APPLE-RADIUS=500;X-TITLE=1721 Oxmoor Road:geo:-86.795404,33.4750533
END:VEVENT
BEGIN:VEVENT
DTSTART;TZID=America/Chicago:20190516T183000
DTEND;TZID=America/Chicago:20190516T191500
DTSTAMP:20260419T194915
CREATED:20190509T193103Z
LAST-MODIFIED:20190509T193103Z
UID:29793-1558031400-1558034100@birminghammommy.com
SUMMARY:Pajama Storytime at North Shelby Library
DESCRIPTION:Come in your PJs\, have milk and cookies\, and hear some wonderful bedtime tales. Suited for ages 3 and up. No Registration Required.
URL:https://birminghammommy.com/event/pajama-storytime-at-north-shelby-library/
LOCATION:North Shelby Library\, 5521 Cahaba Valley Road\, Birmingham\, AL\, 35242
GEO:33.3646429;-86.7165499
X-APPLE-STRUCTURED-LOCATION;VALUE=URI;X-ADDRESS=North Shelby Library 5521 Cahaba Valley Road Birmingham AL 35242;X-APPLE-RADIUS=500;X-TITLE=5521 Cahaba Valley Road:geo:-86.7165499,33.3646429
END:VEVENT
END:VCALENDAR