BEGIN:VCALENDAR
VERSION:2.0
PRODID:-//Birmingham Mommy - ECPv6.3.5//NONSGML v1.0//EN
CALSCALE:GREGORIAN
METHOD:PUBLISH
X-WR-CALNAME:Birmingham Mommy
X-ORIGINAL-URL:https://birminghammommy.com
X-WR-CALDESC:Events for Birmingham Mommy
REFRESH-INTERVAL;VALUE=DURATION:PT1H
X-Robots-Tag:noindex
X-PUBLISHED-TTL:PT1H
BEGIN:VTIMEZONE
TZID:America/Chicago
BEGIN:DAYLIGHT
TZOFFSETFROM:-0600
TZOFFSETTO:-0500
TZNAME:CDT
DTSTART:20180311T080000
END:DAYLIGHT
BEGIN:STANDARD
TZOFFSETFROM:-0500
TZOFFSETTO:-0600
TZNAME:CST
DTSTART:20181104T070000
END:STANDARD
BEGIN:DAYLIGHT
TZOFFSETFROM:-0600
TZOFFSETTO:-0500
TZNAME:CDT
DTSTART:20190310T080000
END:DAYLIGHT
BEGIN:STANDARD
TZOFFSETFROM:-0500
TZOFFSETTO:-0600
TZNAME:CST
DTSTART:20191103T070000
END:STANDARD
END:VTIMEZONE
BEGIN:VEVENT
DTSTART;TZID=America/Chicago:20190107T093000
DTEND;TZID=America/Chicago:20190107T100000
DTSTAMP:20260419T210016
CREATED:20190105T145127Z
LAST-MODIFIED:20190105T145127Z
UID:28089-1546853400-1546855200@birminghammommy.com
SUMMARY:Toddler A-Go-Go 18 - 24 mos
DESCRIPTION:Storytime for children 18 to 24 months and a caregiver. This storytime is age-appropriate for toddlers with short stories\, songs and lots of movement. Each program is 30 minutes in length.
URL:https://birminghammommy.com/event/toddler-a-go-go-18-24-mos/2019-01-07/
LOCATION:Vestavia Hills Library in the Forest\, 1221 Montgomery Hwy\, Vestavia Hills Library\, AL\, 35216
GEO:33.4311673;-86.7875936
X-APPLE-STRUCTURED-LOCATION;VALUE=URI;X-ADDRESS=Vestavia Hills Library in the Forest 1221 Montgomery Hwy Vestavia Hills Library AL 35216;X-APPLE-RADIUS=500;X-TITLE=1221 Montgomery Hwy:geo:-86.7875936,33.4311673
END:VEVENT
BEGIN:VEVENT
DTSTART;TZID=America/Chicago:20190107T093000
DTEND;TZID=America/Chicago:20190107T100000
DTSTAMP:20260419T210016
CREATED:20181216T233058Z
LAST-MODIFIED:20181216T233058Z
UID:27925-1546853400-1546855200@birminghammommy.com
SUMMARY:Toddler Tales Emmet O Neal
DESCRIPTION:Stories\, songs\, finger plays and crafts make up a lively 30 minute program\, designed for active toddlers.
URL:https://birminghammommy.com/event/toddler-tales-emmet-o-neal/2019-01-07/
LOCATION:Emmet O’ Neal Library\, 50 Oak Street\, Mountain Brook\, AL\, 35213
GEO:33.5012941;-86.7565774
X-APPLE-STRUCTURED-LOCATION;VALUE=URI;X-ADDRESS=Emmet O’ Neal Library 50 Oak Street Mountain Brook AL 35213;X-APPLE-RADIUS=500;X-TITLE=50 Oak Street:geo:-86.7565774,33.5012941
END:VEVENT
BEGIN:VEVENT
DTSTART;TZID=America/Chicago:20190106T153000
DTEND;TZID=America/Chicago:20190106T160000
DTSTAMP:20260419T210016
CREATED:20181216T015608Z
LAST-MODIFIED:20181216T015608Z
UID:27657-1546788600-1546790400@birminghammommy.com
SUMMARY:Special Siblings at Homewood Library
DESCRIPTION:(K-12 Grade) This support group for siblings of special needs children is a place to share ideas\, experiences\, and the ever changing needs of having a sibling with special needs.
URL:https://birminghammommy.com/event/special-siblings-at-homewood-library/
LOCATION:Homewood Public Library\, 1721 Oxmoor Road\, Homewood\, AL\, 35209\, United States
GEO:33.4750533;-86.795404
X-APPLE-STRUCTURED-LOCATION;VALUE=URI;X-ADDRESS=Homewood Public Library 1721 Oxmoor Road Homewood AL 35209 United States;X-APPLE-RADIUS=500;X-TITLE=1721 Oxmoor Road:geo:-86.795404,33.4750533
END:VEVENT
BEGIN:VEVENT
DTSTART;TZID=America/Chicago:20190106T140000
DTEND;TZID=America/Chicago:20190106T160000
DTSTAMP:20260419T210016
CREATED:20181216T014138Z
LAST-MODIFIED:20181216T014138Z
UID:27627-1546783200-1546790400@birminghammommy.com
SUMMARY:Monster Jam Triple Threat Series
DESCRIPTION:Scheduled to appear: Alien Invasion\, Earthshaker\, El Toro Loco\, Grave Digger\, Max-D\, Megalodon\, Monster Mutt Dalmation and Zombie. \nCompetitors are subject to change.\nNote: Costumes not permitted for guests 14 years & older.
URL:https://birminghammommy.com/event/monster-jam-triple-threat-series-5/
LOCATION:BJCC Legacy Arena\, 2100 Richard Arrington Jr Blvd\, Birmingham\, AL\, 35203
GEO:33.5249488;-86.8082265
X-APPLE-STRUCTURED-LOCATION;VALUE=URI;X-ADDRESS=BJCC Legacy Arena 2100 Richard Arrington Jr Blvd Birmingham AL 35203;X-APPLE-RADIUS=500;X-TITLE=2100 Richard Arrington Jr Blvd:geo:-86.8082265,33.5249488
END:VEVENT
BEGIN:VEVENT
DTSTART;TZID=America/Chicago:20190105T130000
DTEND;TZID=America/Chicago:20190105T150000
DTSTAMP:20260419T210016
CREATED:20181216T014020Z
LAST-MODIFIED:20181216T014020Z
UID:27625-1546693200-1546700400@birminghammommy.com
SUMMARY:Monster Jam Triple Threat Series
DESCRIPTION:Scheduled to appear: Alien Invasion\, Earthshaker\, El Toro Loco\, Grave Digger\, Max-D\, Megalodon\, Monster Mutt Dalmation and Zombie. \nCompetitors are subject to change.\nNote: Costumes not permitted for guests 14 years & older.
URL:https://birminghammommy.com/event/monster-jam-triple-threat-series-4/2019-01-05/
LOCATION:BJCC Legacy Arena\, 2100 Richard Arrington Jr Blvd\, Birmingham\, AL\, 35203
GEO:33.5249488;-86.8082265
X-APPLE-STRUCTURED-LOCATION;VALUE=URI;X-ADDRESS=BJCC Legacy Arena 2100 Richard Arrington Jr Blvd Birmingham AL 35203;X-APPLE-RADIUS=500;X-TITLE=2100 Richard Arrington Jr Blvd:geo:-86.8082265,33.5249488
END:VEVENT
BEGIN:VEVENT
DTSTART;TZID=America/Chicago:20190105T110000
DTEND;TZID=America/Chicago:20190105T120000
DTSTAMP:20260419T210016
CREATED:20181216T215155Z
LAST-MODIFIED:20181216T215155Z
UID:27866-1546686000-1546689600@birminghammommy.com
SUMMARY:Storytime and Activities Featuring Clifford the Big Red Dog
DESCRIPTION:Clifford is an adorable dog whose well-meaning bumblings have great kid appeal especially for his owner\, Emily Elizabeth. Join us as we read about everyone’s favorite big red dog. Plus\, get a coupon from our Café for a grilled cheese sandwich with milk or juice for $4.
URL:https://birminghammommy.com/event/storytime-and-activities-featuring-clifford-the-big-red-dog/
LOCATION:Barnes and Noble Summit\, 201 Summit Blvd\, Suite 100\, Birmingham\, AL\, 35243
GEO:33.446009;-86.7296901
X-APPLE-STRUCTURED-LOCATION;VALUE=URI;X-ADDRESS=Barnes and Noble Summit 201 Summit Blvd Suite 100 Birmingham AL 35243;X-APPLE-RADIUS=500;X-TITLE=201 Summit Blvd\, Suite 100:geo:-86.7296901,33.446009
END:VEVENT
BEGIN:VEVENT
DTSTART;TZID=America/Chicago:20190105T103000
DTEND;TZID=America/Chicago:20190105T110000
DTSTAMP:20260419T210016
CREATED:20181216T015414Z
LAST-MODIFIED:20181216T015414Z
UID:27655-1546684200-1546686000@birminghammommy.com
SUMMARY:Baby and Me Storytime
DESCRIPTION:(Birth-12 Months) Join Ms. Mary for an educational and engaging storytime filled with songs\, fingerplays\, board books\, and stories.
URL:https://birminghammommy.com/event/baby-and-me-storytime-4/
LOCATION:Homewood Public Library\, 1721 Oxmoor Road\, Homewood\, AL\, 35209\, United States
GEO:33.4750533;-86.795404
X-APPLE-STRUCTURED-LOCATION;VALUE=URI;X-ADDRESS=Homewood Public Library 1721 Oxmoor Road Homewood AL 35209 United States;X-APPLE-RADIUS=500;X-TITLE=1721 Oxmoor Road:geo:-86.795404,33.4750533
END:VEVENT
BEGIN:VEVENT
DTSTART;TZID=America/Chicago:20190105T090000
DTEND;TZID=America/Chicago:20190105T170000
DTSTAMP:20260419T210016
CREATED:20181216T224749Z
LAST-MODIFIED:20181216T224749Z
UID:27898-1546678800-1546707600@birminghammommy.com
SUMMARY:LEGO Play
DESCRIPTION:The library provides the Legos\, the kids provide the imagination and creativity! Families are welcome to drop in anytime  to build spectacular creations. Creations will then go on display on the first floor of the library.
URL:https://birminghammommy.com/event/lego-play-2/
LOCATION:North Shelby Library\, 5521 Cahaba Valley Road\, Birmingham\, 35242\, United States
GEO:33.3646429;-86.71655
X-APPLE-STRUCTURED-LOCATION;VALUE=URI;X-ADDRESS=North Shelby Library 5521 Cahaba Valley Road Birmingham 35242 United States;X-APPLE-RADIUS=500;X-TITLE=5521 Cahaba Valley Road:geo:-86.71655,33.3646429
END:VEVENT
BEGIN:VEVENT
DTSTART;TZID=America/Chicago:20190105T090000
DTEND;TZID=America/Chicago:20190105T163000
DTSTAMP:20260419T210016
CREATED:20190201T012554Z
LAST-MODIFIED:20190201T012554Z
UID:28070-1546678800-1546705800@birminghammommy.com
SUMMARY:Color Me Crazy at CHOM!
DESCRIPTION:Color Me Crazy at CHOM!   \nSaturday\, January 5\, 2019   9 am – 4:30 pm \nDesign a tape resist painting! \nCreate spray bottle art! \nMake a crumpled paper masterpiece!
URL:https://birminghammommy.com/event/color-me-crazy-at-chom-2/
LOCATION:Children’s Hands-On Museum\, 2213 University Blvd.\, Tuscaloosa\, AL\, 35401\, United States
ATTACH;FMTTYPE=image/jpeg:https://birminghammommy.com/wp-content/uploads/2019/01/Color-Me-Crazy-1-5-19-RG.jpg
END:VEVENT
BEGIN:VEVENT
DTSTART;TZID=America/Chicago:20190104T110000
DTEND;TZID=America/Chicago:20190104T120000
DTSTAMP:20260419T210016
CREATED:20181216T224631Z
LAST-MODIFIED:20181216T224631Z
UID:27895-1546599600-1546603200@birminghammommy.com
SUMMARY:Mt Laurel Storytime
DESCRIPTION:Stories\, music\, and more for every member of the family. All ages. No registration required.
URL:https://birminghammommy.com/event/mt-laurel-storytime-7/2019-01-04/
LOCATION:Mt Laurel Library\, 111 Olmsted St\, Birmingham\, AL\, 35242
GEO:33.4096347;-86.6292618
X-APPLE-STRUCTURED-LOCATION;VALUE=URI;X-ADDRESS=Mt Laurel Library 111 Olmsted St Birmingham AL 35242;X-APPLE-RADIUS=500;X-TITLE=111 Olmsted St:geo:-86.6292618,33.4096347
END:VEVENT
BEGIN:VEVENT
DTSTART;TZID=America/Chicago:20190104T103000
DTEND;TZID=America/Chicago:20190104T110000
DTSTAMP:20260419T210016
CREATED:20181216T015227Z
LAST-MODIFIED:20181216T015227Z
UID:27633-1546597800-1546599600@birminghammommy.com
SUMMARY:Leaps and Bounds Storytime
DESCRIPTION:(Ages 2-4) Join us for a fun and energetic movement class. Register online starting the Monday before the Friday class date. \nRegistration opens on Monday\, December 31 2018 at 9:00am
URL:https://birminghammommy.com/event/leaps-and-bounds-storytime/
LOCATION:Homewood Public Library\, 1721 Oxmoor Road\, Homewood\, AL\, 35209\, United States
GEO:33.4750533;-86.795404
X-APPLE-STRUCTURED-LOCATION;VALUE=URI;X-ADDRESS=Homewood Public Library 1721 Oxmoor Road Homewood AL 35209 United States;X-APPLE-RADIUS=500;X-TITLE=1721 Oxmoor Road:geo:-86.795404,33.4750533
END:VEVENT
BEGIN:VEVENT
DTSTART;TZID=America/Chicago:20190104T100000
DTEND;TZID=America/Chicago:20190104T103000
DTSTAMP:20260419T210016
CREATED:20181216T224515Z
LAST-MODIFIED:20181216T224515Z
UID:27892-1546596000-1546597800@birminghammommy.com
SUMMARY:Mt Laurel Toddler Tales
DESCRIPTION:Stories\, songs\, finger plays\, and more make up a lively 30 minute program designed especially for short attention spans and their caregiver. Registration begins two weeks prior to each storytime. Ages 36 months and younger.
URL:https://birminghammommy.com/event/mt-laurel-toddler-tales-8/2019-01-04/
LOCATION:Mt Laurel Library\, 111 Olmsted St\, Birmingham\, AL\, 35242
GEO:33.4096347;-86.6292618
X-APPLE-STRUCTURED-LOCATION;VALUE=URI;X-ADDRESS=Mt Laurel Library 111 Olmsted St Birmingham AL 35242;X-APPLE-RADIUS=500;X-TITLE=111 Olmsted St:geo:-86.6292618,33.4096347
END:VEVENT
BEGIN:VEVENT
DTSTART;TZID=America/Chicago:20190103T183000
DTEND;TZID=America/Chicago:20190103T191500
DTSTAMP:20260419T210016
CREATED:20181216T224314Z
LAST-MODIFIED:20181216T224314Z
UID:27890-1546540200-1546542900@birminghammommy.com
SUMMARY:Pajama Storytime
DESCRIPTION:Come in your PJs\, have milk and cookies\, and hear some wonderful bedtime tales. Suited for ages 3 and up. No Registration Required.
URL:https://birminghammommy.com/event/pajama-storytime-4/
LOCATION:North Shelby Library\, 5521 Cahaba Valley Road\, Birmingham\, 35242\, United States
GEO:33.3646429;-86.71655
X-APPLE-STRUCTURED-LOCATION;VALUE=URI;X-ADDRESS=North Shelby Library 5521 Cahaba Valley Road Birmingham 35242 United States;X-APPLE-RADIUS=500;X-TITLE=5521 Cahaba Valley Road:geo:-86.71655,33.3646429
END:VEVENT
BEGIN:VEVENT
DTSTART;TZID=America/Chicago:20190103T153000
DTEND;TZID=America/Chicago:20190103T170000
DTSTAMP:20260419T210016
CREATED:20181216T014903Z
LAST-MODIFIED:20181216T014903Z
UID:27631-1546529400-1546534800@birminghammommy.com
SUMMARY:Teen Theatre Thursdays
DESCRIPTION:with the assistance of Red Mountain Theatre Company. Open to 6th-12th graders. No experience needed. Register online for each individual session.
URL:https://birminghammommy.com/event/teen-theatre-thursdays/
LOCATION:Homewood Public Library\, 1721 Oxmoor Road\, Homewood\, AL\, 35209\, United States
GEO:33.4750533;-86.795404
X-APPLE-STRUCTURED-LOCATION;VALUE=URI;X-ADDRESS=Homewood Public Library 1721 Oxmoor Road Homewood AL 35209 United States;X-APPLE-RADIUS=500;X-TITLE=1721 Oxmoor Road:geo:-86.795404,33.4750533
END:VEVENT
BEGIN:VEVENT
DTSTART;TZID=America/Chicago:20190102T113000
DTEND;TZID=America/Chicago:20190102T120000
DTSTAMP:20260419T210016
CREATED:20181216T224140Z
LAST-MODIFIED:20181216T224140Z
UID:27888-1546428600-1546430400@birminghammommy.com
SUMMARY:Hello Hedgie
DESCRIPTION:Stop by to say hello to our pet hedgehog\, Oliver! We’ll take him out of his cage and feed him a few treats while you watch. All ages welcome. No registration required.
URL:https://birminghammommy.com/event/hello-hedgie-6/
LOCATION:North Shelby Library\, 5521 Cahaba Valley Road\, Birmingham\, 35242\, United States
GEO:33.3646429;-86.71655
X-APPLE-STRUCTURED-LOCATION;VALUE=URI;X-ADDRESS=North Shelby Library 5521 Cahaba Valley Road Birmingham 35242 United States;X-APPLE-RADIUS=500;X-TITLE=5521 Cahaba Valley Road:geo:-86.71655,33.3646429
END:VEVENT
BEGIN:VEVENT
DTSTART;TZID=America/Chicago:20190102T104500
DTEND;TZID=America/Chicago:20190102T113000
DTSTAMP:20260419T210016
CREATED:20181216T224022Z
LAST-MODIFIED:20181216T224022Z
UID:27882-1546425900-1546428600@birminghammommy.com
SUMMARY:Family Storytime with Mr Mac
DESCRIPTION:Stories\, puppets\, and lots of music for every member of the family. All Ages. No Registration.
URL:https://birminghammommy.com/event/family-storytime-with-mr-mac-9/2019-01-02/
LOCATION:North Shelby Library\, 5521 Cahaba Valley Road\, Birmingham\, 35242\, United States
GEO:33.3646429;-86.71655
X-APPLE-STRUCTURED-LOCATION;VALUE=URI;X-ADDRESS=North Shelby Library 5521 Cahaba Valley Road Birmingham 35242 United States;X-APPLE-RADIUS=500;X-TITLE=5521 Cahaba Valley Road:geo:-86.71655,33.3646429
END:VEVENT
BEGIN:VEVENT
DTSTART;TZID=America/Chicago:20181231T090000
DTEND;TZID=America/Chicago:20181231T170000
DTSTAMP:20260419T210016
CREATED:20181114T012059Z
LAST-MODIFIED:20181114T012059Z
UID:27271-1546246800-1546275600@birminghammommy.com
SUMMARY:Noon Year's Eve
DESCRIPTION:Celebrate the New Year (a few hours early!) at our Noon Year’s Eve Celebration! Enjoy a Spectacular Science Demonstration\, and dance the afternoon away as we count down to 2019 with a sparkling juice toast and a very special surprise to welcome in the “noon” year!
URL:https://birminghammommy.com/event/noon-years-eve/
LOCATION:McWane Science Center\, 200 19th Street North\, Birmingham\, AL\, 35203
GEO:33.5149315;-86.8083142
X-APPLE-STRUCTURED-LOCATION;VALUE=URI;X-ADDRESS=McWane Science Center 200 19th Street North Birmingham AL 35203;X-APPLE-RADIUS=500;X-TITLE=200 19th Street North:geo:-86.8083142,33.5149315
END:VEVENT
BEGIN:VEVENT
DTSTART;TZID=America/Chicago:20181231T090000
DTEND;TZID=America/Chicago:20181231T120000
DTSTAMP:20260419T210016
CREATED:20181126T000000Z
LAST-MODIFIED:20181126T000000Z
UID:27400-1546246800-1546257600@birminghammommy.com
SUMMARY:New Year's Eve for Kids at CHOM!
DESCRIPTION:New Year’s Eve for KIDS at CHOM! \nMonday\, December 31\, 2018     9 am – Noon \nBalloon Drop at 11 am Sharp! \nDesign a 2019 Hat!  Construct a Noisemaker! \nCreate Firework Art! Compose a Personal Time Capsule! \nAll activities included in admission \n  \n 
URL:https://birminghammommy.com/event/new-years-eve-for-kids-at-chom/
LOCATION:Children’s Hands-On Museum\, 2213 University Blvd.\, Tuscaloosa\, AL\, 35401\, United States
ATTACH;FMTTYPE=image/jpeg:https://birminghammommy.com/wp-content/uploads/2018/11/New-Years-Eve-For-Kids-12-31-18-RG-540x700.jpg
END:VEVENT
BEGIN:VEVENT
DTSTART;TZID=America/Chicago:20181229T110000
DTEND;TZID=America/Chicago:20181229T130000
DTSTAMP:20260419T210016
CREATED:20181216T223732Z
LAST-MODIFIED:20181216T223732Z
UID:27880-1546081200-1546088400@birminghammommy.com
SUMMARY:Mt Laurel LEGO Club
DESCRIPTION:The library provides the Legos\, the kids provide the imagination and creativity. Families are welcome to drop in anytime between 11 and 1 to build spectacular creations which will be displayed in the library.
URL:https://birminghammommy.com/event/mt-laurel-lego-club-6/
LOCATION:Mt Laurel Library\, 111 Olmsted St\, Birmingham\, AL\, 35242
GEO:33.4096347;-86.6292618
X-APPLE-STRUCTURED-LOCATION;VALUE=URI;X-ADDRESS=Mt Laurel Library 111 Olmsted St Birmingham AL 35242;X-APPLE-RADIUS=500;X-TITLE=111 Olmsted St:geo:-86.6292618,33.4096347
END:VEVENT
BEGIN:VEVENT
DTSTART;TZID=America/Chicago:20181229T110000
DTEND;TZID=America/Chicago:20181229T120000
DTSTAMP:20260419T210016
CREATED:20181216T215049Z
LAST-MODIFIED:20181216T215049Z
UID:27864-1546081200-1546084800@birminghammommy.com
SUMMARY:Storytime and Activities Featuring The Legend of Rock Paper Scissors
DESCRIPTION:From the author of The Day the Crayons Quit comes a laugh-out-loud hilarious picture book about the epic tale of the classic game Rock\, Paper\, Scissors. Join us for Storytime and get a coupon from our Café for a grilled cheese sandwich with milk or juice for $4!
URL:https://birminghammommy.com/event/storytime-and-activities-featuring-the-legend-of-rock-paper-scissors/
LOCATION:Barnes and Noble Summit\, 201 Summit Blvd\, Suite 100\, Birmingham\, AL\, 35243
GEO:33.446009;-86.7296901
X-APPLE-STRUCTURED-LOCATION;VALUE=URI;X-ADDRESS=Barnes and Noble Summit 201 Summit Blvd Suite 100 Birmingham AL 35243;X-APPLE-RADIUS=500;X-TITLE=201 Summit Blvd\, Suite 100:geo:-86.7296901,33.446009
END:VEVENT
BEGIN:VEVENT
DTSTART;TZID=America/Chicago:20181229T090000
DTEND;TZID=America/Chicago:20181229T163000
DTSTAMP:20260419T210016
CREATED:20181126T000000Z
LAST-MODIFIED:20181126T000000Z
UID:27394-1546074000-1546101000@birminghammommy.com
SUMMARY:Let It Snow at CHOM!
DESCRIPTION:Let it Snow at CHOM! \nSaturday\, December 29\, 2018    9-4:30 pm \nMake a Puzzle Piece Snowflake! \nCreate Your Own Snowman Friend! \nIndoor Snowball Fight! \n 
URL:https://birminghammommy.com/event/let-it-snow-at-chom-2/
LOCATION:Children’s Hands-On Museum\, 2213 University Blvd.\, Tuscaloosa\, AL\, 35401\, United States
ATTACH;FMTTYPE=image/jpeg:https://birminghammommy.com/wp-content/uploads/2018/11/Let-It-Snow-12-29-18-RG-540x700.jpg
END:VEVENT
BEGIN:VEVENT
DTSTART;TZID=America/Chicago:20181229T090000
DTEND;TZID=America/Chicago:20181229T163000
DTSTAMP:20260419T210016
CREATED:20181126T000000Z
LAST-MODIFIED:20181126T000000Z
UID:27397-1546074000-1546101000@birminghammommy.com
SUMMARY:Let It Snow at CHOM!
DESCRIPTION:Let it Snow at CHOM! \nSaturday\, December 29\, 2018    9-4:30 pm \nMake a Puzzle Piece Snowflake! \nCreate Your Own Snowman Friend! \nIndoor Snowball Fight! \n 
URL:https://birminghammommy.com/event/let-it-snow-at-chom/
LOCATION:Children’s Hands-On Museum\, 2213 University Blvd.\, Tuscaloosa\, AL\, 35401\, United States
ATTACH;FMTTYPE=image/jpeg:https://birminghammommy.com/wp-content/uploads/2018/11/Let-It-Snow-12-29-18-RG-540x700-1.jpg
END:VEVENT
BEGIN:VEVENT
DTSTART;TZID=America/Chicago:20181228T193000
DTEND;TZID=America/Chicago:20181228T223000
DTSTAMP:20260419T210016
CREATED:20181216T003554Z
LAST-MODIFIED:20181216T003554Z
UID:27521-1546025400-1546036200@birminghammommy.com
SUMMARY:Birmingham Bulls Hockey
DESCRIPTION:V. Pensacola Ice Flyers \nAs You Walk Through the Door\, Your Hearts Starts Pumping! The irresistible lure of HOCKEY and the buzz of a packed house causes your ADRENALIN to surge. The music is PUMPING\, the lights fade and the smoke swirls – and that’s just the beginning. Monster hits\, UNBELIEVABLE GOALS and in-your-face hockey keeps you on the edge of your seat. The action is NON-STOP! With heart pounding music\, and contests\, what are you waiting for? It’s an EXPERIENCE to remember.
URL:https://birminghammommy.com/event/birmingham-bulls-hockey-13/
LOCATION:Pelham Civic Complex\, 500 Amphitheater Road\, Pelham\, AL\, 35124\, United States
GEO:33.3294394;-86.7891985
X-APPLE-STRUCTURED-LOCATION;VALUE=URI;X-ADDRESS=Pelham Civic Complex 500 Amphitheater Road Pelham AL 35124 United States;X-APPLE-RADIUS=500;X-TITLE=500 Amphitheater Road:geo:-86.7891985,33.3294394
END:VEVENT
BEGIN:VEVENT
DTSTART;TZID=America/Chicago:20181228T180000
DTEND;TZID=America/Chicago:20181228T203000
DTSTAMP:20260419T210016
CREATED:20181127T190913Z
LAST-MODIFIED:20181127T190913Z
UID:27439-1546020000-1546029000@birminghammommy.com
SUMMARY:Kids Movie Night - Mr Popper's Penguins
DESCRIPTION:Our Kids Night Out includes materials\, instruction\, and firing\, pizza and a drink. Projects will be ready to pick up in one week. Space is very limited\, so reserve your spot today! All guests must register. The cost is $30 per kiddo\, ages 6+
URL:https://birminghammommy.com/event/kids-movie-night-mr-poppers-penguins/
LOCATION:do it yourself crafts\, 1909 Oxmoor Rd\, Birmingham\, Al\, 35209
GEO:33.4781338;-86.7885722
X-APPLE-STRUCTURED-LOCATION;VALUE=URI;X-ADDRESS=do it yourself crafts 1909 Oxmoor Rd Birmingham Al 35209;X-APPLE-RADIUS=500;X-TITLE=1909 Oxmoor Rd:geo:-86.7885722,33.4781338
END:VEVENT
BEGIN:VEVENT
DTSTART;TZID=America/Chicago:20181227T083000
DTEND;TZID=America/Chicago:20181227T153000
DTSTAMP:20260419T210016
CREATED:20181114T014029Z
LAST-MODIFIED:20181114T014029Z
UID:27337-1545899400-1545924600@birminghammommy.com
SUMMARY:Winter Break Camp at the Birmingham Zoo
DESCRIPTION:We are excited to introduce Winter Break Camp as part of our Zoo Camp program at the Birmingham Zoo! \nOur camps have always been amazing\, but this year we have revamped the program to include even more hands-on science\, nature play\, conservation and ‘zoo-learning’! \nOur camps are educational and encourage active learning through games\, crafts\, age-appropriate explorations\, and special encounters with a variety of our resident animals. Rich in STEM-based explorations\, these camps engage the natural curiosity of a child and allow ample opportunity to practice critical emerging science skills. Learning has never been so much FUN!
URL:https://birminghammommy.com/event/winter-break-camp-at-the-birmingham-zoo-2/2018-12-27/
LOCATION:Birmingham Zoo\, 2630 Cahaba Road\, Birmingham \, AL\, 35223
GEO:33.4867334;-86.7789473
X-APPLE-STRUCTURED-LOCATION;VALUE=URI;X-ADDRESS=Birmingham Zoo 2630 Cahaba Road Birmingham  AL 35223;X-APPLE-RADIUS=500;X-TITLE=2630 Cahaba Road:geo:-86.7789473,33.4867334
END:VEVENT
BEGIN:VEVENT
DTSTART;TZID=America/Chicago:20181226T170000
DTEND;TZID=America/Chicago:20181226T210000
DTSTAMP:20260419T210016
CREATED:20181114T013531Z
LAST-MODIFIED:20181114T013531Z
UID:27327-1545843600-1545858000@birminghammommy.com
SUMMARY:Zoolight Safari
DESCRIPTION:Join us for another magical holiday season as twinkling lights illuminate the Zoo for a dazzling 19 nights! \nWatch as the Zoo comes alive for a jubilant holiday celebration at our 25th annual ZooLight Safari presented by Wells Fargo! Be amazed by enchanting illuminations and sparkling lights. Enjoy the sounds of seasonal songs and holiday classics as you delight in delicious treats and decadent desserts at the S’mores & More station! Get creative making crafts\, decorating ornaments\, and writing letters to Santa. Take a merry ride on the Shipt Candy Cane Train\, go for a spin on the Jingle Bell Carousel\, dash down the Yuletide Slide\, hop on the Santa Rollers\, and enjoy fun holiday themed games on Henley Park! \nGuests will be captivated by the festive décor and a nearly 30 ft. tall tree of lights. Dance and sing the night away under the stars with spectacular live entertainment. Capture the joy of your loved ones in a photo with Santa at the Holiday Card Photo Op. In addition to the incredible holiday magic\, ZooLight Safari will feature special nights with surprise guests and joyous performances\, including Singing Santa! Start a new holiday tradition with the Birmingham Zoo during the 2018 ZooLight Safari presented by Wells Fargo! \n*The Zoo will CLOSE EARLY at 4:00pm every night of ZooLight Safari.
URL:https://birminghammommy.com/event/zoolight-safari-6/2018-12-26/
LOCATION:Birmingham Zoo\, 2630 Cahaba Road\, Birmingham \, AL\, 35223
GEO:33.4867334;-86.7789473
X-APPLE-STRUCTURED-LOCATION;VALUE=URI;X-ADDRESS=Birmingham Zoo 2630 Cahaba Road Birmingham  AL 35223;X-APPLE-RADIUS=500;X-TITLE=2630 Cahaba Road:geo:-86.7789473,33.4867334
END:VEVENT
BEGIN:VEVENT
DTSTART;TZID=America/Chicago:20181222T110000
DTEND;TZID=America/Chicago:20181222T153000
DTSTAMP:20260419T210016
CREATED:20181216T003304Z
LAST-MODIFIED:20181216T003304Z
UID:27519-1545476400-1545492600@birminghammommy.com
SUMMARY:Christmas with Critters
DESCRIPTION:– Come get your picture made with your favorite Teacher Creature and learn about them at the Reptile Holiday Photo Booth! This will be at the Oak Mountain Interpretive Center! 11:00am-12:30pm! \n– Give back this season by bringing a donation/gift for the Alabama Wildlife Center to help in their efforts to rescue\, rehabilitate\, and release almost 2\,000 birds every year! Enjoy a guided tour of the Treetop Nature Trail and learn about the Birds of Prey that call Oak Mountain State Park home! Meet at the Beach Access parking lot to drop off donations/gifts and to participate in the guided tour! 2:00pm-3:30pm! \nPlease dress appropriately for weather!\nOMIC is stroller friendly! TNT Boardwalk has stroller and wheelchair accessibility!
URL:https://birminghammommy.com/event/christmas-with-critters/
LOCATION:Oak mountain State Park\, 200 Terrace Drive\, Pelham\, AL\, 35214
GEO:33.3247302;-86.7593249
X-APPLE-STRUCTURED-LOCATION;VALUE=URI;X-ADDRESS=Oak mountain State Park 200 Terrace Drive Pelham AL 35214;X-APPLE-RADIUS=500;X-TITLE=200 Terrace Drive:geo:-86.7593249,33.3247302
END:VEVENT
BEGIN:VEVENT
DTSTART;TZID=America/Chicago:20181222T090000
DTEND;TZID=America/Chicago:20181222T163000
DTSTAMP:20260419T210016
CREATED:20181126T000000Z
LAST-MODIFIED:20181126T000000Z
UID:27391-1545469200-1545496200@birminghammommy.com
SUMMARY:Have A Holly\, Jolly Christmas at CHOM!
DESCRIPTION:Have a Holly\, Jolly Christmas at CHOM! \nSaturday\, December 22\, 2018     9-4:30 pm   \nMake a Santa Ornament! Write a letter to Santa! \nSanta Mouse Story & Ornament! \nAll activities included in admission \n  \n  \n 
URL:https://birminghammommy.com/event/have-a-holly-jolly-christmas-at-chom/
LOCATION:Children’s Hands-On Museum\, 2213 University Blvd.\, Tuscaloosa\, AL\, 35401\, United States
ATTACH;FMTTYPE=image/jpeg:https://birminghammommy.com/wp-content/uploads/2018/11/Holly-Jolly-Christmas-12-22-18-RG-540x700.jpg
END:VEVENT
BEGIN:VEVENT
DTSTART;TZID=America/Chicago:20181221T193000
DTEND;TZID=America/Chicago:20181221T223000
DTSTAMP:20260419T210016
CREATED:20181216T002947Z
LAST-MODIFIED:20181216T002947Z
UID:27517-1545420600-1545431400@birminghammommy.com
SUMMARY:Birmingham Bills Hockey
DESCRIPTION:Vs Knoxville \nAs You Walk Through the Door\, Your Hearts Starts Pumping! The irresistible lure of HOCKEY and the buzz of a packed house causes your ADRENALIN to surge. The music is PUMPING\, the lights fade and the smoke swirls – and that’s just the beginning. Monster hits\, UNBELIEVABLE GOALS and in-your-face hockey keeps you on the edge of your seat. The action is NON-STOP! With heart pounding music\, and contests\, what are you waiting for? It’s an EXPERIENCE to remember.
URL:https://birminghammommy.com/event/birmingham-bills-hockey/
LOCATION:Pelham Civic Complex\, 500 Amphitheater Road\, Pelham\, AL\, 35124\, United States
GEO:33.3294394;-86.7891985
X-APPLE-STRUCTURED-LOCATION;VALUE=URI;X-ADDRESS=Pelham Civic Complex 500 Amphitheater Road Pelham AL 35124 United States;X-APPLE-RADIUS=500;X-TITLE=500 Amphitheater Road:geo:-86.7891985,33.3294394
END:VEVENT
BEGIN:VEVENT
DTSTART;TZID=America/Chicago:20181221T180000
DTEND;TZID=America/Chicago:20181221T220000
DTSTAMP:20260419T210016
CREATED:20181114T005312Z
LAST-MODIFIED:20181114T005312Z
UID:27261-1545415200-1545429600@birminghammommy.com
SUMMARY:Hogwarts Yule Ball
DESCRIPTION:Come to the wizarding world of Emmet O’Neal Library for our second Hogwarts Yule Ball. Costumes and formal dress encouraged at this event for all ages.\nWe’ll start the night with trivia and end it with a dance concert by none other than\, Andy Harris and Wizard
URL:https://birminghammommy.com/event/hogwarts-yule-ball/
LOCATION:Emmet O’ Neal Library\, 50 Oak Street\, Mountain Brook\, AL\, 35213
GEO:33.5012941;-86.7565774
X-APPLE-STRUCTURED-LOCATION;VALUE=URI;X-ADDRESS=Emmet O’ Neal Library 50 Oak Street Mountain Brook AL 35213;X-APPLE-RADIUS=500;X-TITLE=50 Oak Street:geo:-86.7565774,33.5012941
END:VEVENT
END:VCALENDAR