BEGIN:VCALENDAR
VERSION:2.0
PRODID:-//Birmingham Mommy - ECPv6.3.5//NONSGML v1.0//EN
CALSCALE:GREGORIAN
METHOD:PUBLISH
X-WR-CALNAME:Birmingham Mommy
X-ORIGINAL-URL:https://birminghammommy.com
X-WR-CALDESC:Events for Birmingham Mommy
REFRESH-INTERVAL;VALUE=DURATION:PT1H
X-Robots-Tag:noindex
X-PUBLISHED-TTL:PT1H
BEGIN:VTIMEZONE
TZID:America/Chicago
BEGIN:DAYLIGHT
TZOFFSETFROM:-0600
TZOFFSETTO:-0500
TZNAME:CDT
DTSTART:20220313T080000
END:DAYLIGHT
BEGIN:STANDARD
TZOFFSETFROM:-0500
TZOFFSETTO:-0600
TZNAME:CST
DTSTART:20221106T070000
END:STANDARD
END:VTIMEZONE
BEGIN:VEVENT
DTSTART;TZID=America/Chicago:20221015T090000
DTEND;TZID=America/Chicago:20221015T170000
DTSTAMP:20260420T204233
CREATED:20220807T211751Z
LAST-MODIFIED:20220828T173911Z
UID:36701-1665824400-1665853200@birminghammommy.com
SUMMARY:Moundville Native American Festival
DESCRIPTION:Moundville Archaeological Park will host the Native American Festival on October 12-15\, 2022. \nThe event features artists\, craftsmen and educators from around the nation sharing their knowledge of Southeastern Native American cultures. \nAdmission: \nAdmission is $10 for adults\, students\, and seniors. Pre-registered groups of 10 or more are $8 per person. \nHours: \nFestival hours are 9 a.m. to 3 p.m. on Wednesday and Thursday\, and 9 a.m. to 5 p.m. on Friday and Saturday. \nLocation: \nMoundville Archaeological Park is 13 miles south of Tuscaloosa off Alabama Highway 69 and the address is 634 Mound State Parkway\, Moundville\, AL 35474-6413. Moundville Archaeological Park is located 13 miles south of Tuscaloosa off Alabama Highway 69. \nFor more information on schedule\, parking\, and resources\, visit: https://festival.museums.ua.edu
URL:https://birminghammommy.com/event/moundville-native-american-festival/
ATTACH;FMTTYPE=image/jpeg:https://birminghammommy.com/wp-content/uploads/2022/08/VisitTuscaloosa.com_-3.jpg
ORGANIZER;CN="Moundville Archaeological Park":MAILTO:adsmith18@ua.edu
END:VEVENT
BEGIN:VEVENT
DTSTART;TZID=America/Chicago:20221015T130000
DTEND;TZID=America/Chicago:20221015T160000
DTSTAMP:20260420T204233
CREATED:20220807T211751Z
LAST-MODIFIED:20220828T173911Z
UID:36709-1665838800-1665849600@birminghammommy.com
SUMMARY:National Fossil Day 2022
DESCRIPTION:Visit the Alabama Museum of Natural History on October 15 from 1:00 PM – 4:00 PM for a free event to celebrate National Fossil Day and the scientific and educational value of paleontology and the importance of preserving fossils for future generations!
URL:https://birminghammommy.com/event/national-fossil-day-2022/
LOCATION:Alabama Museum of Natural History\, 427 Sixth Avenue\, Tuscaloosa\, AL\, 35487\, United States
ATTACH;FMTTYPE=image/jpeg:https://birminghammommy.com/wp-content/uploads/2022/08/fossilday.jpeg
ORGANIZER;CN="Alabama Museum of Natural History":MAILTO:joyia.davis@ua.edu
END:VEVENT
END:VCALENDAR