BEGIN:VCALENDAR
VERSION:2.0
PRODID:-//Birmingham Mommy - ECPv6.3.5//NONSGML v1.0//EN
CALSCALE:GREGORIAN
METHOD:PUBLISH
X-ORIGINAL-URL:https://birminghammommy.com
X-WR-CALDESC:Events for Birmingham Mommy
REFRESH-INTERVAL;VALUE=DURATION:PT1H
X-Robots-Tag:noindex
X-PUBLISHED-TTL:PT1H
BEGIN:VTIMEZONE
TZID:America/Chicago
BEGIN:DAYLIGHT
TZOFFSETFROM:-0600
TZOFFSETTO:-0500
TZNAME:CDT
DTSTART:20220313T080000
END:DAYLIGHT
BEGIN:STANDARD
TZOFFSETFROM:-0500
TZOFFSETTO:-0600
TZNAME:CST
DTSTART:20221106T070000
END:STANDARD
END:VTIMEZONE
BEGIN:VEVENT
DTSTART;TZID=America/Chicago:20220825T170000
DTEND;TZID=America/Chicago:20220825T200000
DTSTAMP:20260420T235927
CREATED:20220807T211751Z
LAST-MODIFIED:20220826T173922Z
UID:36678-1661446800-1661457600@birminghammommy.com
SUMMARY:Lil Lambs Consignment Sale
DESCRIPTION:Trinity’s favorite children’s clothing consignment sale returns August 25-27! \nWe plan to have the place filled with wonderful items for you to purchase! Lil Lambs is a consignment sale that provides gently worn clothing\, toys\, and furniture at reasonable prices. Additionally\, at the end of the sale all unsold items marked “donate” will be shared with families and organizations in need in our area. \n\nThursday\, August 25 – Presale Starts\nFriday\,August 26 – Regular Sale – 9:00am-3:00pm\nSaturday\,August 27 – Regular Sale (many items 1/2 off) – 9:00am-12:00pm\n\nFollow our Facebook page for updates and giveaways – AND – invite your friends. A portion of proceeds benefits the ministries and missions of the church.
URL:https://birminghammommy.com/event/lil-lambs-consignment-sale-3/2022-08-25/
LOCATION:Trinity United Methodist\, 1400 Oxmoor Rd.\, Homewood\, AL\, 35209
CATEGORIES:Consignment Sale
ATTACH;FMTTYPE=image/jpeg:https://birminghammommy.com/wp-content/uploads/2022/07/Lil-Lambs-sale.jpg
ORGANIZER;CN="Susan St. John":MAILTO:sstjohn@trinitybirmingham.com
GEO:33.475411;-86.8033313
X-APPLE-STRUCTURED-LOCATION;VALUE=URI;X-ADDRESS=Trinity United Methodist 1400 Oxmoor Rd. Homewood AL 35209;X-APPLE-RADIUS=500;X-TITLE=1400 Oxmoor Rd.:geo:-86.8033313,33.475411
END:VEVENT
END:VCALENDAR