BEGIN:VCALENDAR
VERSION:2.0
PRODID:-//Birmingham Mommy - ECPv6.3.5//NONSGML v1.0//EN
CALSCALE:GREGORIAN
METHOD:PUBLISH
X-ORIGINAL-URL:https://birminghammommy.com
X-WR-CALDESC:Events for Birmingham Mommy
REFRESH-INTERVAL;VALUE=DURATION:PT1H
X-Robots-Tag:noindex
X-PUBLISHED-TTL:PT1H
BEGIN:VTIMEZONE
TZID:America/Chicago
BEGIN:DAYLIGHT
TZOFFSETFROM:-0600
TZOFFSETTO:-0500
TZNAME:CDT
DTSTART:20220313T080000
END:DAYLIGHT
BEGIN:STANDARD
TZOFFSETFROM:-0500
TZOFFSETTO:-0600
TZNAME:CST
DTSTART:20221106T070000
END:STANDARD
END:VTIMEZONE
BEGIN:VEVENT
DTSTART;TZID=America/Chicago:20220707T093000
DTEND;TZID=America/Chicago:20220707T095000
DTSTAMP:20260421T013608
CREATED:20220712T170700Z
LAST-MODIFIED:20220712T170700Z
UID:36543-1657186200-1657187400@birminghammommy.com
SUMMARY:O'Neal Library Patty Cake
DESCRIPTION:Early language & movement enrichment program composed of stories\, rhymes\, songs\, motion\, and sensory experiences\, designed to nurture the bond between caregiver and baby. (registration required)
URL:https://birminghammommy.com/event/oneal-library-patty-cake-3/2022-07-07/
END:VEVENT
BEGIN:VEVENT
DTSTART;TZID=America/Chicago:20220707T153000
DTEND;TZID=America/Chicago:20220707T160000
DTSTAMP:20260421T013608
CREATED:20220712T170641Z
LAST-MODIFIED:20220712T170641Z
UID:36500-1657207800-1657209600@birminghammommy.com
SUMMARY:Homewood Public Library Live Animal Show
DESCRIPTION:The Science Lady is sharing some reptiles and bugs in this educational and super exciting program!
URL:https://birminghammommy.com/event/homewood-public-library-live-animal-show/
END:VEVENT
END:VCALENDAR