BEGIN:VCALENDAR
VERSION:2.0
PRODID:-//Birmingham Mommy - ECPv6.3.5//NONSGML v1.0//EN
CALSCALE:GREGORIAN
METHOD:PUBLISH
X-WR-CALNAME:Birmingham Mommy
X-ORIGINAL-URL:https://birminghammommy.com
X-WR-CALDESC:Events for Birmingham Mommy
REFRESH-INTERVAL;VALUE=DURATION:PT1H
X-Robots-Tag:noindex
X-PUBLISHED-TTL:PT1H
BEGIN:VTIMEZONE
TZID:America/Chicago
BEGIN:DAYLIGHT
TZOFFSETFROM:-0600
TZOFFSETTO:-0500
TZNAME:CDT
DTSTART:20220313T080000
END:DAYLIGHT
BEGIN:STANDARD
TZOFFSETFROM:-0500
TZOFFSETTO:-0600
TZNAME:CST
DTSTART:20221106T070000
END:STANDARD
END:VTIMEZONE
BEGIN:VEVENT
DTSTART;TZID=America/Chicago:20220420T091500
DTEND;TZID=America/Chicago:20220420T094500
DTSTAMP:20260421T053000
CREATED:20220405T011057Z
LAST-MODIFIED:20220405T011057Z
UID:36222-1650446100-1650447900@birminghammommy.com
SUMMARY:Preschool Storytime with Pelham Library
DESCRIPTION:Ms. Rebecca & Ms. Ashley present stories\, songs and more along with a craft and a snack.
URL:https://birminghammommy.com/event/preschool-storytime-with-pelham-library-8/
LOCATION:Pelham Public Library\, 2000 Pelham Park Boulevard\, Pelham\, AL\, 35124\, United States
END:VEVENT
BEGIN:VEVENT
DTSTART;TZID=America/Chicago:20220420T093000
DTEND;TZID=America/Chicago:20220420T100000
DTSTAMP:20260421T053000
CREATED:20220405T011036Z
LAST-MODIFIED:20220405T011036Z
UID:36134-1650447000-1650448800@birminghammommy.com
SUMMARY:Storypalooza with Homewood Library
DESCRIPTION:(Preschool) Join us for an energetic and interactive storytime with Miss Aaliyah. Stories are geared towards preschoolers\, but everyone is welcome to listen\, sing and dance along!
URL:https://birminghammommy.com/event/storypalooza-with-homewood-library-7/
LOCATION:Homewood Public Library\, 1721 Oxmoor Road\, Homewood\, AL\, 35209\, United States
GEO:33.4750533;-86.795404
X-APPLE-STRUCTURED-LOCATION;VALUE=URI;X-ADDRESS=Homewood Public Library 1721 Oxmoor Road Homewood AL 35209 United States;X-APPLE-RADIUS=500;X-TITLE=1721 Oxmoor Road:geo:-86.795404,33.4750533
END:VEVENT
BEGIN:VEVENT
DTSTART;TZID=America/Chicago:20220420T100000
DTEND;TZID=America/Chicago:20220420T115000
DTSTAMP:20260421T053000
CREATED:20220405T011056Z
LAST-MODIFIED:20220405T011056Z
UID:36206-1650448800-1650455400@birminghammommy.com
SUMMARY:STORY TIME with Gardendale Library
DESCRIPTION:Storytime is for all ages children & a caregiver. This is approx. 40 minutes of songs\, reading and learning.
URL:https://birminghammommy.com/event/story-time-with-gardendale-library-4/
LOCATION:Gardendale Public Library
END:VEVENT
BEGIN:VEVENT
DTSTART;TZID=America/Chicago:20220420T103000
DTEND;TZID=America/Chicago:20220420T110000
DTSTAMP:20260421T053000
CREATED:20220329T122356Z
LAST-MODIFIED:20220329T122356Z
UID:36224-1650450600-1650452400@birminghammommy.com
SUMMARY:Preschool Storytime with Pelham Library
DESCRIPTION:Ms. Rebecca & Ms. Ashley present stories\, songs and more along with a craft and a snack.
URL:https://birminghammommy.com/event/preschool-storytime-with-pelham-library-3/
LOCATION:Pelham Public Library\, 2000 Pelham Park Boulevard\, Pelham\, AL\, 35124\, United States
END:VEVENT
BEGIN:VEVENT
DTSTART;TZID=America/Chicago:20220420T103000
DTEND;TZID=America/Chicago:20220420T110000
DTSTAMP:20260421T053000
CREATED:20220405T011036Z
LAST-MODIFIED:20220405T011036Z
UID:36136-1650450600-1650452400@birminghammommy.com
SUMMARY:Storypalooza with Homewood Library
DESCRIPTION:(Preschool) Join us for an energetic and interactive storytime with Miss Aaliyah. Stories are geared towards preschoolers\, but everyone is welcome to listen\, sing and dance along!
URL:https://birminghammommy.com/event/storypalooza-with-homewood-library-8/
LOCATION:Homewood Public Library\, 1721 Oxmoor Road\, Homewood\, AL\, 35209\, United States
GEO:33.4750533;-86.795404
X-APPLE-STRUCTURED-LOCATION;VALUE=URI;X-ADDRESS=Homewood Public Library 1721 Oxmoor Road Homewood AL 35209 United States;X-APPLE-RADIUS=500;X-TITLE=1721 Oxmoor Road:geo:-86.795404,33.4750533
END:VEVENT
BEGIN:VEVENT
DTSTART;TZID=America/Chicago:20220420T103000
DTEND;TZID=America/Chicago:20220420T110000
DTSTAMP:20260421T053000
CREATED:20220405T011056Z
LAST-MODIFIED:20220405T011056Z
UID:36175-1650450600-1650452400@birminghammommy.com
SUMMARY:Family Storytime with North Shelby Library
DESCRIPTION:A story program ideal for Pre-K with caregivers nearby. Stories\, songs\, finger plays\, and fun make up a lively 30-minute program.  With the avent of Spring\, we will be returning to live outdoor programming at Heardmont Park for our Family Storytime as weather permits.
URL:https://birminghammommy.com/event/family-storytime-with-north-shelby-library-5/
LOCATION:North Shelby Library\, 5521 Cahaba Valley Road\, Birmingham\, AL\, 35242
GEO:33.3646429;-86.7165499
X-APPLE-STRUCTURED-LOCATION;VALUE=URI;X-ADDRESS=North Shelby Library 5521 Cahaba Valley Road Birmingham AL 35242;X-APPLE-RADIUS=500;X-TITLE=5521 Cahaba Valley Road:geo:-86.7165499,33.3646429
END:VEVENT
END:VCALENDAR