BEGIN:VCALENDAR
VERSION:2.0
PRODID:-//Birmingham Mommy - ECPv6.3.5//NONSGML v1.0//EN
CALSCALE:GREGORIAN
METHOD:PUBLISH
X-WR-CALNAME:Birmingham Mommy
X-ORIGINAL-URL:https://birminghammommy.com
X-WR-CALDESC:Events for Birmingham Mommy
REFRESH-INTERVAL;VALUE=DURATION:PT1H
X-Robots-Tag:noindex
X-PUBLISHED-TTL:PT1H
BEGIN:VTIMEZONE
TZID:America/Chicago
BEGIN:DAYLIGHT
TZOFFSETFROM:-0600
TZOFFSETTO:-0500
TZNAME:CDT
DTSTART:20170312T080000
END:DAYLIGHT
BEGIN:STANDARD
TZOFFSETFROM:-0500
TZOFFSETTO:-0600
TZNAME:CST
DTSTART:20171105T070000
END:STANDARD
END:VTIMEZONE
BEGIN:VEVENT
DTSTART;TZID=America/Chicago:20171120T090000
DTEND;TZID=America/Chicago:20171120T170000
DTSTAMP:20260421T154658
CREATED:20171103T165950Z
LAST-MODIFIED:20171103T165950Z
UID:22815-1511168400-1511197200@birminghammommy.com
SUMMARY:Turkey Science at McWane
DESCRIPTION:As Thanksgiving Day fast approaches\, it’s time for Turkey Science\, the only science activity that features November’s favorite bird. We’ll have lots of great public programs including Pumpkin Chunkin’\, Design Challenge: Mayflower\, and Dinner Table Science.
URL:https://birminghammommy.com/event/turkey-science-mcwane/2017-11-20/
END:VEVENT
END:VCALENDAR