BEGIN:VCALENDAR
VERSION:2.0
PRODID:-//Birmingham Mommy - ECPv6.3.5//NONSGML v1.0//EN
CALSCALE:GREGORIAN
METHOD:PUBLISH
X-WR-CALNAME:Birmingham Mommy
X-ORIGINAL-URL:https://birminghammommy.com
X-WR-CALDESC:Events for Birmingham Mommy
REFRESH-INTERVAL;VALUE=DURATION:PT1H
X-Robots-Tag:noindex
X-PUBLISHED-TTL:PT1H
BEGIN:VTIMEZONE
TZID:America/Chicago
BEGIN:DAYLIGHT
TZOFFSETFROM:-0600
TZOFFSETTO:-0500
TZNAME:CDT
DTSTART:20180311T080000
END:DAYLIGHT
BEGIN:STANDARD
TZOFFSETFROM:-0500
TZOFFSETTO:-0600
TZNAME:CST
DTSTART:20181104T070000
END:STANDARD
END:VTIMEZONE
BEGIN:VEVENT
DTSTART;TZID=America/Chicago:20180116T103000
DTEND;TZID=America/Chicago:20180116T113000
DTSTAMP:20260423T201639
CREATED:20180114T220040Z
LAST-MODIFIED:20180114T220040Z
UID:23983-1516098600-1516102200@birminghammommy.com
SUMMARY:Together with Twos Storytime Vestavia Library
DESCRIPTION:Join Ms. Kelly for themed stories\, fun songs and activities! Ages 18-36 months.
URL:https://birminghammommy.com/event/together-twos-storytime-vestavia-library-2/2018-01-16/
LOCATION:Vestavia Hills Library in the Forest\, 1221 Montgomery Hwy\, Vestavia Hills Library\, AL\, 35216
GEO:33.4311673;-86.7875936
X-APPLE-STRUCTURED-LOCATION;VALUE=URI;X-ADDRESS=Vestavia Hills Library in the Forest 1221 Montgomery Hwy Vestavia Hills Library AL 35216;X-APPLE-RADIUS=500;X-TITLE=1221 Montgomery Hwy:geo:-86.7875936,33.4311673
END:VEVENT
END:VCALENDAR