BEGIN:VCALENDAR
VERSION:2.0
PRODID:-//Birmingham Mommy - ECPv6.3.5//NONSGML v1.0//EN
CALSCALE:GREGORIAN
METHOD:PUBLISH
X-ORIGINAL-URL:https://birminghammommy.com
X-WR-CALDESC:Events for Birmingham Mommy
REFRESH-INTERVAL;VALUE=DURATION:PT1H
X-Robots-Tag:noindex
X-PUBLISHED-TTL:PT1H
BEGIN:VTIMEZONE
TZID:America/Chicago
BEGIN:DAYLIGHT
TZOFFSETFROM:-0600
TZOFFSETTO:-0500
TZNAME:CDT
DTSTART:20190310T080000
END:DAYLIGHT
BEGIN:STANDARD
TZOFFSETFROM:-0500
TZOFFSETTO:-0600
TZNAME:CST
DTSTART:20191103T070000
END:STANDARD
END:VTIMEZONE
BEGIN:VEVENT
DTSTART;TZID=America/Chicago:20190116T153000
DTEND;TZID=America/Chicago:20190116T163000
DTSTAMP:20260419T124821
CREATED:20190105T153403Z
LAST-MODIFIED:20190105T153403Z
UID:28122-1547652600-1547656200@birminghammommy.com
SUMMARY:This and That - 3rd-6th grades
DESCRIPTION:Calling all Tweens! Join Ms. Holly and Ms. Nia on Wednesday afternoons from 3:30-4:30 p.m. in the Children’s Department for fun activities\, games or crafts. Snacks served. (Ages 3rd-6th grade). See you there!
URL:https://birminghammommy.com/event/this-and-that-3rd-6th-grades/2019-01-16/
LOCATION:Vestavia Hills Library in the Forest\, 1221 Montgomery Hwy\, Vestavia Hills Library\, AL\, 35216
GEO:33.4311673;-86.7875936
X-APPLE-STRUCTURED-LOCATION;VALUE=URI;X-ADDRESS=Vestavia Hills Library in the Forest 1221 Montgomery Hwy Vestavia Hills Library AL 35216;X-APPLE-RADIUS=500;X-TITLE=1221 Montgomery Hwy:geo:-86.7875936,33.4311673
END:VEVENT
END:VCALENDAR