BEGIN:VCALENDAR
VERSION:2.0
PRODID:-//Birmingham Mommy - ECPv6.3.5//NONSGML v1.0//EN
CALSCALE:GREGORIAN
METHOD:PUBLISH
X-ORIGINAL-URL:https://birminghammommy.com
X-WR-CALDESC:Events for Birmingham Mommy
REFRESH-INTERVAL;VALUE=DURATION:PT1H
X-Robots-Tag:noindex
X-PUBLISHED-TTL:PT1H
BEGIN:VTIMEZONE
TZID:America/Chicago
BEGIN:DAYLIGHT
TZOFFSETFROM:-0600
TZOFFSETTO:-0500
TZNAME:CDT
DTSTART:20190310T080000
END:DAYLIGHT
BEGIN:STANDARD
TZOFFSETFROM:-0500
TZOFFSETTO:-0600
TZNAME:CST
DTSTART:20191103T070000
END:STANDARD
END:VTIMEZONE
BEGIN:VEVENT
DTSTART;TZID=America/Chicago:20191209T154500
DTEND;TZID=America/Chicago:20191209T164500
DTSTAMP:20260419T075333
CREATED:20191119T020853Z
LAST-MODIFIED:20191119T020853Z
UID:32645-1575906300-1575909900@birminghammommy.com
SUMMARY:Teen Event: Hour of Code
DESCRIPTION:Ever wanted to learn how to code? Participate in Hour of Code™  at your local library! Call the library to reserve one of our laptops\, or just bring your own. \n‘Hour of Code™’ is a nationwide initiative by Computer Science Education Week and Code.org to introduce millions of students to one hour of computer science and computer programming.
URL:https://birminghammommy.com/event/teen-event-hour-of-code/2019-12-09/
LOCATION:Parnell Memorial Library\, 277 Park Drive\, Montevallo\, 35115\, United States
END:VEVENT
END:VCALENDAR