BEGIN:VCALENDAR
VERSION:2.0
PRODID:-//Birmingham Mommy - ECPv6.3.5//NONSGML v1.0//EN
CALSCALE:GREGORIAN
METHOD:PUBLISH
X-ORIGINAL-URL:https://birminghammommy.com
X-WR-CALDESC:Events for Birmingham Mommy
REFRESH-INTERVAL;VALUE=DURATION:PT1H
X-Robots-Tag:noindex
X-PUBLISHED-TTL:PT1H
BEGIN:VTIMEZONE
TZID:America/Chicago
BEGIN:DAYLIGHT
TZOFFSETFROM:-0600
TZOFFSETTO:-0500
TZNAME:CDT
DTSTART:20200308T080000
END:DAYLIGHT
BEGIN:STANDARD
TZOFFSETFROM:-0500
TZOFFSETTO:-0600
TZNAME:CST
DTSTART:20201101T070000
END:STANDARD
END:VTIMEZONE
BEGIN:VEVENT
DTSTART;TZID=America/Chicago:20200205T091500
DTEND;TZID=America/Chicago:20200205T100000
DTSTAMP:20260421T071938
CREATED:20200114T161411Z
LAST-MODIFIED:20200114T161411Z
UID:33231-1580894100-1580896800@birminghammommy.com
SUMMARY:Storytime with Mr. Mac
DESCRIPTION:Stories and songs for kids and their caregivers\, featuring Mr. Mac! Free\, no registration required.
URL:https://birminghammommy.com/event/storytime-with-mr-mac-4/2020-02-05/
LOCATION:Parnell Memorial Library\, 277 Park Drive\, Montevallo\, 35115\, United States
CATEGORIES:StoryTime
ATTACH;FMTTYPE=image/jpeg:https://birminghammommy.com/wp-content/uploads/2020/01/Mr.-Mac.jpg
END:VEVENT
END:VCALENDAR