BEGIN:VCALENDAR
VERSION:2.0
PRODID:-//Birmingham Mommy - ECPv6.3.5//NONSGML v1.0//EN
CALSCALE:GREGORIAN
METHOD:PUBLISH
X-WR-CALNAME:Birmingham Mommy
X-ORIGINAL-URL:https://birminghammommy.com
X-WR-CALDESC:Events for Birmingham Mommy
REFRESH-INTERVAL;VALUE=DURATION:PT1H
X-Robots-Tag:noindex
X-PUBLISHED-TTL:PT1H
BEGIN:VTIMEZONE
TZID:America/Chicago
BEGIN:DAYLIGHT
TZOFFSETFROM:-0600
TZOFFSETTO:-0500
TZNAME:CDT
DTSTART:20180311T080000
END:DAYLIGHT
BEGIN:STANDARD
TZOFFSETFROM:-0500
TZOFFSETTO:-0600
TZNAME:CST
DTSTART:20181104T070000
END:STANDARD
END:VTIMEZONE
BEGIN:VEVENT
DTSTART;TZID=America/Chicago:20180117T103000
DTEND;TZID=America/Chicago:20180117T110000
DTSTAMP:20260423T044440
CREATED:20180114T161015Z
LAST-MODIFIED:20180114T161015Z
UID:23595-1516185000-1516186800@birminghammommy.com
SUMMARY:Story Sprouts at Hoover Library
DESCRIPTION:A short action-packed storytime for children under 4. \nThemes\nJan 3 Going on a Bear Hunt\nJan 10 Bye\, Bye Birdie\nJan 17 White as Snow\nJan 24 Baa! Baa! Black Sheep\nJan 31 Pigs Rock
URL:https://birminghammommy.com/event/story-sprouts-hoover-library-2/2018-01-17/
LOCATION:Hoover Public Library\, 200 Municiple Drive\, Hoover\, AL\, 35216
GEO:33.387905;-86.8061018
X-APPLE-STRUCTURED-LOCATION;VALUE=URI;X-ADDRESS=Hoover Public Library 200 Municiple Drive Hoover AL 35216;X-APPLE-RADIUS=500;X-TITLE=200 Municiple Drive:geo:-86.8061018,33.387905
END:VEVENT
END:VCALENDAR