BEGIN:VCALENDAR
VERSION:2.0
PRODID:-//Birmingham Mommy - ECPv6.3.5//NONSGML v1.0//EN
CALSCALE:GREGORIAN
METHOD:PUBLISH
X-ORIGINAL-URL:https://birminghammommy.com
X-WR-CALDESC:Events for Birmingham Mommy
REFRESH-INTERVAL;VALUE=DURATION:PT1H
X-Robots-Tag:noindex
X-PUBLISHED-TTL:PT1H
BEGIN:VTIMEZONE
TZID:America/Chicago
BEGIN:DAYLIGHT
TZOFFSETFROM:-0600
TZOFFSETTO:-0500
TZNAME:CDT
DTSTART:20200308T080000
END:DAYLIGHT
BEGIN:STANDARD
TZOFFSETFROM:-0500
TZOFFSETTO:-0600
TZNAME:CST
DTSTART:20201101T070000
END:STANDARD
END:VTIMEZONE
BEGIN:VEVENT
DTSTART;TZID=America/Chicago:20200103T193000
DTEND;TZID=America/Chicago:20200103T213000
DTSTAMP:20260421T162329
CREATED:20191208T221715Z
LAST-MODIFIED:20191208T221715Z
UID:32937-1578079800-1578087000@birminghammommy.com
SUMMARY:Birmingham Bulls Hockey
DESCRIPTION:V. Peoria Rivermen \nAs You Walk Through the Door\, Your Hearts Starts Pumping! The irresistible lure of HOCKEY and the buzz of a packed house causes your ADRENALIN to surge. The music is PUMPING\, the lights fade and the smoke swirls – and that’s just the beginning. Monster hits\, UNBELIEVABLE GOALS and in-your-face hockey keeps you on the edge of your seat. The action is NON-STOP! With heart pounding music\, contests\, and the prospect of catching a fantastic FREE SOUVENIR\, what are you waiting for? Build your team’s SPIRIT by sharing in ours. It’s an EXPERIENCE to remember.
URL:https://birminghammommy.com/event/birmingham-bulls-hockey-30/2020-01-03/
LOCATION:Pelham Civic Center and Ice Arena\, 500 Amphitheater Drive\, Pelham\, 35124\, United States
END:VEVENT
END:VCALENDAR