BEGIN:VCALENDAR
VERSION:2.0
PRODID:-//Birmingham Mommy - ECPv6.3.5//NONSGML v1.0//EN
CALSCALE:GREGORIAN
METHOD:PUBLISH
X-WR-CALNAME:Birmingham Mommy
X-ORIGINAL-URL:https://birminghammommy.com
X-WR-CALDESC:Events for Birmingham Mommy
REFRESH-INTERVAL;VALUE=DURATION:PT1H
X-Robots-Tag:noindex
X-PUBLISHED-TTL:PT1H
BEGIN:VTIMEZONE
TZID:America/Chicago
BEGIN:DAYLIGHT
TZOFFSETFROM:-0600
TZOFFSETTO:-0500
TZNAME:CDT
DTSTART:20170312T080000
END:DAYLIGHT
BEGIN:STANDARD
TZOFFSETFROM:-0500
TZOFFSETTO:-0600
TZNAME:CST
DTSTART:20171105T070000
END:STANDARD
END:VTIMEZONE
BEGIN:VEVENT
DTSTART;TZID=America/Chicago:20171202T143000
DTEND;TZID=America/Chicago:20171202T163000
DTSTAMP:20260421T032525
CREATED:20171130T140113Z
LAST-MODIFIED:20171130T140113Z
UID:23139-1512225000-1512232200@birminghammommy.com
SUMMARY:BCT Presents Cinderella
DESCRIPTION:Hold on to your pumpkins! This is a Cinderella for the holiday season. With contemporary songs\, gags\, and mayhem\, you’ll jeer at the deliciously dysfunctional stepmother and sisters as much as you’ll cheer for Cinderella in her quest to attend the magnificent ball and fulfill her destiny. Put on your glass slippers\, and enjoy this spectacular and outrageous telling of our unique Cinderella\, guaranteed to delight. \nPhotos with Santa 1 hour before each show
URL:https://birminghammommy.com/event/bct-presents-cinderella/2017-12-02/
LOCATION:Birmingham Children’s Theatre\, 2130 Richard Arrington Jr Blvd N\, Birmingham\, AL\, 35203
ATTACH;FMTTYPE=image/jpeg:https://birminghammommy.com/wp-content/uploads/2017/11/3.jpeg
GEO:33.525709;-86.8101544
X-APPLE-STRUCTURED-LOCATION;VALUE=URI;X-ADDRESS=Birmingham Children’s Theatre 2130 Richard Arrington Jr Blvd N Birmingham AL 35203;X-APPLE-RADIUS=500;X-TITLE=2130 Richard Arrington Jr Blvd N:geo:-86.8101544,33.525709
END:VEVENT
END:VCALENDAR